BEGIN:VCALENDAR
VERSION:2.0
PRODID:-//MENZA - ECPv6.15.20//NONSGML v1.0//EN
CALSCALE:GREGORIAN
METHOD:PUBLISH
X-ORIGINAL-URL:https://menza.co.nz
X-WR-CALDESC:Events for MENZA
REFRESH-INTERVAL;VALUE=DURATION:PT1H
X-Robots-Tag:noindex
X-PUBLISHED-TTL:PT1H
BEGIN:VTIMEZONE
TZID:UTC
BEGIN:STANDARD
TZOFFSETFROM:+0000
TZOFFSETTO:+0000
TZNAME:UTC
DTSTART:20140101T000000
END:STANDARD
END:VTIMEZONE
BEGIN:VEVENT
DTSTART;TZID=UTC:20151111T163000
DTEND;TZID=UTC:20151111T200000
DTSTAMP:20260425T060616
CREATED:20151103T095841Z
LAST-MODIFIED:20151103T095841Z
UID:160966-1447259400-1447272000@menza.co.nz
SUMMARY:MEW - Music Education Waikato - Catch a Song
DESCRIPTION:MEW (MENZA in the Waikato) is running Catch a Song\, a music education workshop on Wednesday afternoon 11 November between 4:30 and 6:00 pm in the music rooms of Waikato Uni\, Faculty of Education. This fun-filled afternoon provides ideas that can go straight into the primary music room or community music settings. Singing\, playing\, movement and music literacy games are all part of the oeuvre. \nChristoph Maubach\nTe Hononga\nUniversity of Waikato\nPhone: 07 838 4620\nE-mail: cmaubach@waikato.ac.nz
URL:https://menza.co.nz/event/mew-music-education-waikato-catch-a-song/
LOCATION:Te Kura Toi Tangata – Faculty of Education – University of Waikato\, Gate 1\, Knighton Rd\, Private Bag 3105\, Hamilton\, 3240\, New Zealand
CATEGORIES:Waikato and Bay of Plenty
ATTACH;FMTTYPE=image/jpeg:https://menza.co.nz/wp-content/uploads/2015/11/facebook_event_107099316320446-1.jpg
END:VEVENT
END:VCALENDAR