BEGIN:VCALENDAR
VERSION:2.0
PRODID:-//MENZA - ECPv6.15.20//NONSGML v1.0//EN
CALSCALE:GREGORIAN
METHOD:PUBLISH
X-WR-CALNAME:MENZA
X-ORIGINAL-URL:https://menza.co.nz
X-WR-CALDESC:Events for MENZA
REFRESH-INTERVAL;VALUE=DURATION:PT1H
X-Robots-Tag:noindex
X-PUBLISHED-TTL:PT1H
BEGIN:VTIMEZONE
TZID:UTC
BEGIN:STANDARD
TZOFFSETFROM:+0000
TZOFFSETTO:+0000
TZNAME:UTC
DTSTART:20150101T000000
END:STANDARD
END:VTIMEZONE
BEGIN:VEVENT
DTSTART;TZID=UTC:20160122T100000
DTEND;TZID=UTC:20160122T143000
DTSTAMP:20260425T050323
CREATED:20151207T061109Z
LAST-MODIFIED:20151207T061109Z
UID:162677-1453456800-1453473000@menza.co.nz
SUMMARY:PD for instrumental teachers
DESCRIPTION:Hosted by Dr Julie Garner\nOutline:\n10:00-11:30am  Applying Kodaly techniques to instrumental teaching (Ruth Godfrey)\n11:45-12:45 Group instrumental teaching (Trevor Thwaites)\n1:00-1:30 Student engagement – discussion\n1:30-2:30 Lunch and chat \nCost: $25.00 per person\, includes lunch\, tea/coffee\nVenue: ACG Parnell College\, Music Dept. \nAll participants will be provided with proof of attendance for your portfolios in case you should need it for LAT/registration purposes. \nIf you are interested in attending\, please RSVP to Julie.Garner@acgedu.com by Tuesday January 9th so lunch can be arranged.
URL:https://menza.co.nz/event/pd-for-instrumental-teachers/
LOCATION:ACG Parnell College\, Music Dept.
CATEGORIES:Auckland and Northland
ATTACH;FMTTYPE=image/jpeg:https://menza.co.nz/wp-content/uploads/2015/12/facebook_event_1645283699068987-1.jpg
END:VEVENT
END:VCALENDAR