BEGIN:VCALENDAR
VERSION:2.0
PRODID:-//MENZA - ECPv6.15.20//NONSGML v1.0//EN
CALSCALE:GREGORIAN
METHOD:PUBLISH
X-WR-CALNAME:MENZA
X-ORIGINAL-URL:https://menza.co.nz
X-WR-CALDESC:Events for MENZA
REFRESH-INTERVAL;VALUE=DURATION:PT1H
X-Robots-Tag:noindex
X-PUBLISHED-TTL:PT1H
BEGIN:VTIMEZONE
TZID:UTC
BEGIN:STANDARD
TZOFFSETFROM:+0000
TZOFFSETTO:+0000
TZNAME:UTC
DTSTART:20150101T000000
END:STANDARD
END:VTIMEZONE
BEGIN:VEVENT
DTSTART;TZID=UTC:20160226T090000
DTEND;TZID=UTC:20160226T120000
DTSTAMP:20260424T080912
CREATED:20151207T022230Z
LAST-MODIFIED:20151207T022230Z
UID:162659-1456477200-1456488000@menza.co.nz
SUMMARY:Deke Sharon: singing workshop 2
DESCRIPTION:Make your school pitch perfect. If you loved Pitch Perfect and Glee\, then sign up yourself\, school and classmates for a morning singing workshop where Deke Sharon\, musical director of Pitch Perfect will teach you how to sing sensational a capella harmonies. \nTopics will include singing games\, close harmony blend/tuning\, beginning vocal percussion & singing instruments. \nRegister through lovetosing@ccchorus.co.nz or 022 689 9745.
URL:https://menza.co.nz/event/deke-sharon-singing-workshop-2/
LOCATION:Linwood College\, 85 Aldwins Rd\, Christchurch\, New Zealand
CATEGORIES:Canterbury
ATTACH;FMTTYPE=image/jpeg:https://menza.co.nz/wp-content/uploads/2015/12/facebook_event_118569495179073-1.jpg
END:VEVENT
END:VCALENDAR