BEGIN:VCALENDAR
VERSION:2.0
PRODID:-//MENZA - ECPv6.15.20//NONSGML v1.0//EN
CALSCALE:GREGORIAN
METHOD:PUBLISH
X-WR-CALNAME:MENZA
X-ORIGINAL-URL:https://menza.co.nz
X-WR-CALDESC:Events for MENZA
REFRESH-INTERVAL;VALUE=DURATION:PT1H
X-Robots-Tag:noindex
X-PUBLISHED-TTL:PT1H
BEGIN:VTIMEZONE
TZID:Pacific/Auckland
BEGIN:STANDARD
TZOFFSETFROM:+1300
TZOFFSETTO:+1200
TZNAME:NZST
DTSTART:20150404T140000
END:STANDARD
BEGIN:DAYLIGHT
TZOFFSETFROM:+1200
TZOFFSETTO:+1300
TZNAME:NZDT
DTSTART:20150926T140000
END:DAYLIGHT
BEGIN:STANDARD
TZOFFSETFROM:+1300
TZOFFSETTO:+1200
TZNAME:NZST
DTSTART:20160402T140000
END:STANDARD
BEGIN:DAYLIGHT
TZOFFSETFROM:+1200
TZOFFSETTO:+1300
TZNAME:NZDT
DTSTART:20160924T140000
END:DAYLIGHT
BEGIN:STANDARD
TZOFFSETFROM:+1300
TZOFFSETTO:+1200
TZNAME:NZST
DTSTART:20170401T140000
END:STANDARD
BEGIN:DAYLIGHT
TZOFFSETFROM:+1200
TZOFFSETTO:+1300
TZNAME:NZDT
DTSTART:20170923T140000
END:DAYLIGHT
END:VTIMEZONE
BEGIN:VEVENT
DTSTART;VALUE=DATE:20160314
DTEND;VALUE=DATE:20160315
DTSTAMP:20260424T022710
CREATED:20160302T220200Z
LAST-MODIFIED:20160302T220200Z
UID:162867-1457913600-1457999999@menza.co.nz
SUMMARY:Hook\, Line and Singalong
DESCRIPTION:If your students want to WRITE  an entry for our songwriting competition\, have a look at our Song Guidelines\, Terms and Conditions and Songwriting Resources.\n \nCLICK HERE TO SUBMIT AN ENTRY FOR HOOK\, LINE AND SING-A-LONG 2016 \n*ENTRIES CLOSE MIDNIGHT\, MARCH 14TH 2016* \nKeen to SING your way back into the school year with 100% made in New Zealand songs? \nEverything you need to TEACH our Past Winning Songs – all written by students\, for students – can be found here! \nWant to SHARE original New Zealand music with your school and community during our NZ Music Month nationwide sing-a-long? Put May 31 in your diary to plan a school-wide event! Check out our YouTube Channel for sing-a-longs from round the country!
URL:https://menza.co.nz/event/hook-line-and-singalong/
ATTACH;FMTTYPE=image/png:https://menza.co.nz/wp-content/uploads/2016/01/Screen-Shot-2016-01-30-at-12.19.27-pm-1.png
END:VEVENT
END:VCALENDAR