BEGIN:VCALENDAR
VERSION:2.0
PRODID:-//MENZA - ECPv6.15.20//NONSGML v1.0//EN
CALSCALE:GREGORIAN
METHOD:PUBLISH
X-ORIGINAL-URL:https://menza.co.nz
X-WR-CALDESC:Events for MENZA
REFRESH-INTERVAL;VALUE=DURATION:PT1H
X-Robots-Tag:noindex
X-PUBLISHED-TTL:PT1H
BEGIN:VTIMEZONE
TZID:UTC
BEGIN:STANDARD
TZOFFSETFROM:+0000
TZOFFSETTO:+0000
TZNAME:UTC
DTSTART:20150101T000000
END:STANDARD
END:VTIMEZONE
BEGIN:VEVENT
DTSTART;TZID=UTC:20160317T160000
DTEND;TZID=UTC:20160317T170000
DTSTAMP:20260424T034901
CREATED:20160315T051909Z
LAST-MODIFIED:20160315T051909Z
UID:162897-1458230400-1458234000@menza.co.nz
SUMMARY:Learn to teach African Drumming With Robert Fugah Koffie
DESCRIPTION:Robert Koffie Fugah will run a session for teachers on how to use African drums in your classroom and how to teach djembe drumming. This will be a practical session designed especially for teachers and will be lots of fun!\nRobert is a highly sought after teacher of African drums\, who also is available to run sessions in schools. \nTICKETS AVAILABLE FROM https://africandrumming4teachers.eventbrite.co.nz\n$12 and $17
URL:https://menza.co.nz/event/learn-to-teach-african-drumming-with-robert-fugah-koffie/
LOCATION:Chisnallwood intermediate\, 76 Breezes Road\, Christchurch\, 8061\, New Zealand
CATEGORIES:Canterbury
ATTACH;FMTTYPE=image/jpeg:https://menza.co.nz/wp-content/uploads/2016/03/facebook_event_1511074699201271-1.jpg
END:VEVENT
END:VCALENDAR