BEGIN:VCALENDAR
VERSION:2.0
PRODID:-//MENZA - ECPv6.15.20//NONSGML v1.0//EN
CALSCALE:GREGORIAN
METHOD:PUBLISH
X-ORIGINAL-URL:https://menza.co.nz
X-WR-CALDESC:Events for MENZA
REFRESH-INTERVAL;VALUE=DURATION:PT1H
X-Robots-Tag:noindex
X-PUBLISHED-TTL:PT1H
BEGIN:VTIMEZONE
TZID:Pacific/Auckland
BEGIN:STANDARD
TZOFFSETFROM:+1300
TZOFFSETTO:+1200
TZNAME:NZST
DTSTART:20150404T140000
END:STANDARD
BEGIN:DAYLIGHT
TZOFFSETFROM:+1200
TZOFFSETTO:+1300
TZNAME:NZDT
DTSTART:20150926T140000
END:DAYLIGHT
BEGIN:STANDARD
TZOFFSETFROM:+1300
TZOFFSETTO:+1200
TZNAME:NZST
DTSTART:20160402T140000
END:STANDARD
BEGIN:DAYLIGHT
TZOFFSETFROM:+1200
TZOFFSETTO:+1300
TZNAME:NZDT
DTSTART:20160924T140000
END:DAYLIGHT
BEGIN:STANDARD
TZOFFSETFROM:+1300
TZOFFSETTO:+1200
TZNAME:NZST
DTSTART:20170401T140000
END:STANDARD
BEGIN:DAYLIGHT
TZOFFSETFROM:+1200
TZOFFSETTO:+1300
TZNAME:NZDT
DTSTART:20170923T140000
END:DAYLIGHT
END:VTIMEZONE
BEGIN:VEVENT
DTSTART;TZID=Pacific/Auckland:20160515T093000
DTEND;TZID=Pacific/Auckland:20160515T103000
DTSTAMP:20260423T232725
CREATED:20160510T004408Z
LAST-MODIFIED:20160510T004408Z
UID:163062-1463304600-1463308200@menza.co.nz
SUMMARY:NZ Music Month Studio Tours - Junior Edition 2016
DESCRIPTION:*FREE EVENT* \nCalling all prima donnas and kids who sing\, play an instrument\, do karaoke\, busk\, make you-tube videos or just like to listen to cool sounds… \nEver been inside a recording studio? Do you wonder how the songs you hear on the radio or itunes are made? Now’s your chance. \nCome and tour one of New Zealand’s biggest purpose-built studios right here in Chch. Orange Studios has a fantastic vibe and their staff make it such a cool place to visit. Come and hang out with Michael and his team\, see how the place works\, where the musicians sit\, where we put the loud instruments and how each room is set up. \nSome things you will learn about are:\n• How the rooms are specifically built to make sure the music sounds great\n• How we get the best sound out of each instrument\n• What all the buttons on the sound desk do\n• How a recording session runs and who calls the shots\n• How after we record the music\, we work on it to make it sound even better! \nThe tour will take about 1 hour (depending on the questions that you ask) and costs nothing. The sessions are open to any child (between 6 and 14 years) who are interested in how the songs or music you love is made. Parents are welcome to attend with their prima donnas but please discuss this at the time of booking. \nPlease register your interest early – each session needs a minimum of 10 people and a maximum of 15 to go ahead\, so we need numbers as early as possible. One week before the sessions\, we will confirm session times in case any sessions are over or under subscribed. \nEmail your registration to charlotte@orangestudio.co.nz.
URL:https://menza.co.nz/event/nz-music-month-studio-tours-junior-edition-2016/
LOCATION:Orange Studio\, 1063c Ferry Road\, Christchurch\, 8023\, New Zealand
CATEGORIES:Canterbury
ATTACH;FMTTYPE=image/jpeg:https://menza.co.nz/wp-content/uploads/2016/05/facebook_event_153264898402892-1.jpg
END:VEVENT
END:VCALENDAR