BEGIN:VCALENDAR
VERSION:2.0
PRODID:-//MENZA - ECPv6.15.20//NONSGML v1.0//EN
CALSCALE:GREGORIAN
METHOD:PUBLISH
X-ORIGINAL-URL:https://menza.co.nz
X-WR-CALDESC:Events for MENZA
REFRESH-INTERVAL;VALUE=DURATION:PT1H
X-Robots-Tag:noindex
X-PUBLISHED-TTL:PT1H
BEGIN:VTIMEZONE
TZID:Pacific/Auckland
BEGIN:STANDARD
TZOFFSETFROM:+1300
TZOFFSETTO:+1200
TZNAME:NZST
DTSTART:20150404T140000
END:STANDARD
BEGIN:DAYLIGHT
TZOFFSETFROM:+1200
TZOFFSETTO:+1300
TZNAME:NZDT
DTSTART:20150926T140000
END:DAYLIGHT
BEGIN:STANDARD
TZOFFSETFROM:+1300
TZOFFSETTO:+1200
TZNAME:NZST
DTSTART:20160402T140000
END:STANDARD
BEGIN:DAYLIGHT
TZOFFSETFROM:+1200
TZOFFSETTO:+1300
TZNAME:NZDT
DTSTART:20160924T140000
END:DAYLIGHT
BEGIN:STANDARD
TZOFFSETFROM:+1300
TZOFFSETTO:+1200
TZNAME:NZST
DTSTART:20170401T140000
END:STANDARD
BEGIN:DAYLIGHT
TZOFFSETFROM:+1200
TZOFFSETTO:+1300
TZNAME:NZDT
DTSTART:20170923T140000
END:DAYLIGHT
END:VTIMEZONE
BEGIN:VEVENT
DTSTART;TZID=Pacific/Auckland:20160904T153000
DTEND;TZID=Pacific/Auckland:20160904T163000
DTSTAMP:20260423T162750
CREATED:20160819T104525Z
LAST-MODIFIED:20160819T104525Z
UID:163343-1473003000-1473006600@menza.co.nz
SUMMARY:Wala - The Sprit Of Ghana - Concert!
DESCRIPTION:Wala are a three piece dynamic group on tour from Ghana. Drumming\, dance\, percussion and soaring vocal harmonies blend to create a stunning experience for all ages. \nSurrounded by about twenty drums played with hands\, feet and sticks\, Wala bring their instruments to life as they share a fusion of traditional Ghanaian music and dance depicting the life and soul and rich heritage of their ancestors\, blended with their own refreshingly contemporary and original compositions. \nEnergetic awe-inspiring performances touch the audience delivering a little piece of Africa straight to your heart! There will also be a workshop earlier in the day at The Muse rooms at Phillipstown Hub. See our website for details.
URL:https://menza.co.nz/event/wala-the-sprit-of-ghana-concert/
LOCATION:Christchurch Cathedral College\, Christchurch\, New Zealand
CATEGORIES:Canterbury
ATTACH;FMTTYPE=image/jpeg:https://menza.co.nz/wp-content/uploads/2016/08/facebook_event_1093409450729177-1.jpg
END:VEVENT
END:VCALENDAR