BEGIN:VCALENDAR
VERSION:2.0
PRODID:-//MENZA - ECPv6.15.20//NONSGML v1.0//EN
CALSCALE:GREGORIAN
METHOD:PUBLISH
X-WR-CALNAME:MENZA
X-ORIGINAL-URL:https://menza.co.nz
X-WR-CALDESC:Events for MENZA
REFRESH-INTERVAL;VALUE=DURATION:PT1H
X-Robots-Tag:noindex
X-PUBLISHED-TTL:PT1H
BEGIN:VTIMEZONE
TZID:Pacific/Auckland
BEGIN:STANDARD
TZOFFSETFROM:+1300
TZOFFSETTO:+1200
TZNAME:NZST
DTSTART:20150404T140000
END:STANDARD
BEGIN:DAYLIGHT
TZOFFSETFROM:+1200
TZOFFSETTO:+1300
TZNAME:NZDT
DTSTART:20150926T140000
END:DAYLIGHT
BEGIN:STANDARD
TZOFFSETFROM:+1300
TZOFFSETTO:+1200
TZNAME:NZST
DTSTART:20160402T140000
END:STANDARD
BEGIN:DAYLIGHT
TZOFFSETFROM:+1200
TZOFFSETTO:+1300
TZNAME:NZDT
DTSTART:20160924T140000
END:DAYLIGHT
BEGIN:STANDARD
TZOFFSETFROM:+1300
TZOFFSETTO:+1200
TZNAME:NZST
DTSTART:20170401T140000
END:STANDARD
BEGIN:DAYLIGHT
TZOFFSETFROM:+1200
TZOFFSETTO:+1300
TZNAME:NZDT
DTSTART:20170923T140000
END:DAYLIGHT
END:VTIMEZONE
BEGIN:VEVENT
DTSTART;TZID=Pacific/Auckland:20160914T160000
DTEND;TZID=Pacific/Auckland:20160914T180000
DTSTAMP:20260423T162548
CREATED:20160724T223330Z
LAST-MODIFIED:20160724T223330Z
UID:163257-1473868800-1473876000@menza.co.nz
SUMMARY:Junior Jazz Jam 2016
DESCRIPTION:An event for jazz bands with students up to year 8 \nGold coin entry. \nThe following bands will be playing: \n\n\n\n4.00pm\nNorth Loburn Jazz Combo\n\n\n4.10pm\nWestburn Jazz Band\n\n\n4.25pm\nChisnallwood Jazz Bands\n\n\n4.45pm\nMedbury Jazz Band\n\n\n5:00pm\nJazz@4\n\n\n5.20pm\nChCh South Intermediate Jazz Band\n\n\n5.40pm\nCashmere Primary School Jazz Combo
URL:https://menza.co.nz/event/junior-jazz-jam-2016/
LOCATION:Ara Music Arts\, 130 High St\, Christchurch Central\, \, Christchurch\, Canterbury\, 8011\, New Zealand
CATEGORIES:Canterbury
ATTACH;FMTTYPE=image/jpeg:https://menza.co.nz/wp-content/uploads/2016/07/facebook_event_508427832696306-1.jpg
ORGANIZER;CN="Big Band Festival":MAILTO:katie@bigbandfest.org.nz
END:VEVENT
END:VCALENDAR