BEGIN:VCALENDAR
VERSION:2.0
PRODID:-//MENZA - ECPv6.15.20//NONSGML v1.0//EN
CALSCALE:GREGORIAN
METHOD:PUBLISH
X-ORIGINAL-URL:https://menza.co.nz
X-WR-CALDESC:Events for MENZA
REFRESH-INTERVAL;VALUE=DURATION:PT1H
X-Robots-Tag:noindex
X-PUBLISHED-TTL:PT1H
BEGIN:VTIMEZONE
TZID:Pacific/Auckland
BEGIN:STANDARD
TZOFFSETFROM:+1300
TZOFFSETTO:+1200
TZNAME:NZST
DTSTART:20150404T140000
END:STANDARD
BEGIN:DAYLIGHT
TZOFFSETFROM:+1200
TZOFFSETTO:+1300
TZNAME:NZDT
DTSTART:20150926T140000
END:DAYLIGHT
BEGIN:STANDARD
TZOFFSETFROM:+1300
TZOFFSETTO:+1200
TZNAME:NZST
DTSTART:20160402T140000
END:STANDARD
BEGIN:DAYLIGHT
TZOFFSETFROM:+1200
TZOFFSETTO:+1300
TZNAME:NZDT
DTSTART:20160924T140000
END:DAYLIGHT
BEGIN:STANDARD
TZOFFSETFROM:+1300
TZOFFSETTO:+1200
TZNAME:NZST
DTSTART:20170401T140000
END:STANDARD
BEGIN:DAYLIGHT
TZOFFSETFROM:+1200
TZOFFSETTO:+1300
TZNAME:NZDT
DTSTART:20170923T140000
END:DAYLIGHT
END:VTIMEZONE
BEGIN:VEVENT
DTSTART;TZID=Pacific/Auckland:20160920T110000
DTEND;TZID=Pacific/Auckland:20160920T170000
DTSTAMP:20260423T162736
CREATED:20160803T043555Z
LAST-MODIFIED:20160803T043555Z
UID:163313-1474369200-1474390800@menza.co.nz
SUMMARY:Dunedin Music Education PD Day – with presenters Katie Wardrobe and Susan West
DESCRIPTION:Where: St Clair School\, 135 Richardson Street\, St Kilda\, Dunedin\nWhen: Tuesday 20 September 2016\nCost:  Single workshop – $30 for MENZA members\, $60 for non-MENZA members.\nTwo workshops – $50 for MENZA members\, $80 for non-MENZA members.\nThree workshops – $70 for MENZA members\, $100 for non-MENZA members. \n\nREGISTER HERE\n \n\nWorkshop 1. Susan West\nOutreach Music Engagement Program\n11:00am – 12:30pm\nSusan West will introduce the practice and theory of the Music Engagement Program for interested teachers. The workshop involves discussion of the ideas\, multi-media examples\, singing\, applying the principles of ‘outreach’\, and ideas for extending music learning through the approach. The workshop is also suitable for parents and other members of the community interested in helping spread simple\, effective\, music engagement in their families or more broadly. \n\n12:30pm – 1:30pm: break for lunch (tea and coffee provided\, please bring your own lunch) \n\nWorkshop 2. Katie Wardrobe\nNotation on any device: Write Scores on your iPad\, Chromebook\, Mac or PC Laptop\n1:30pm – 3:00pm\nAn introduction to Noteflight – the online notation software solution that works on all platforms. During this session\, you’ll learn how you can use Noteflight in the teaching studio and classroom. Discover how quick it is to set up a score\, enter notes\, copy and paste music and transpose. Learn some tips and tricks and explore lesson plans and activities that you can use with your students. \n\nWorkshop 3. Katie Wardrobe\niPad projects for the Music Classroom – More Creative Ideas\n3:30pm – 5:00pm\nAnother series of creative ideas for using iPads in the music classroom. Imagine a classroom wall filled with photos of students performing: as you walk past\, you scan one with your iPad or Smartphone and the students magically come to life\, playing or singing just like the moving photos described in the Harry Potter books. In this workshop\, discover how you can use FREE tech resources to create your very own Harry Potter pictures. We’ll also look at using QR codes to link recordings\, text\, website links and online maps with physical printed items like worksheets and signs around your school: create engaging treasure hunts\, quizzes and reinvent student assignments. Discover the best notation apps for students and learn how to flip your music class with whiteboard or screencasting apps like Explain Everything. \n\nAbout Katie Wardrobe\nKatie Wardrobe is recognised internationally as a music technology trainer and consultant with a passion for helping music teachers. She runs workshops\, presentations and online training resources which focus on easy ways to incorporate technology – through a range of creative projects – into what teachers are already doing in their music curriculum. \n\nAbout Dr Susan West\nAssociate Professor Susan West is the Artistic Director of the Music Engagement Programme at the Australian National University in Canberra. Susan developed the innovative approach to music education\, The Music Outreach Principle\, a therapeutic approach that affects the musical lives of over 10\,000 adults and children in the ACT\, Australia. Assoc. Prof. West’s work has attracted both national and international interest. She has been recognized through various awards\, including a National Children’s Week Award\, an International Women’s Day Award and a citation for Teaching Excellence from the Carrick Institute. Most recently the Music Engagement Program was recognized for its excellence as a community outreach program through a national awards program run by the Music Council of Australia\, as well as an Australian Volunteers Award. \nREGISTER HERE
URL:https://menza.co.nz/event/dunedin-music-education-pd-day-with-presenters-katie-wardrobe-and-susan-west/
CATEGORIES:Otago
ATTACH;FMTTYPE=image/jpeg:https://menza.co.nz/wp-content/uploads/2016/07/facebook_event_630265383809336-1.jpg
END:VEVENT
END:VCALENDAR