BEGIN:VCALENDAR
VERSION:2.0
PRODID:-//MENZA - ECPv6.15.20//NONSGML v1.0//EN
CALSCALE:GREGORIAN
METHOD:PUBLISH
X-ORIGINAL-URL:https://menza.co.nz
X-WR-CALDESC:Events for MENZA
REFRESH-INTERVAL;VALUE=DURATION:PT1H
X-Robots-Tag:noindex
X-PUBLISHED-TTL:PT1H
BEGIN:VTIMEZONE
TZID:UTC
BEGIN:STANDARD
TZOFFSETFROM:+0000
TZOFFSETTO:+0000
TZNAME:UTC
DTSTART:20150101T000000
END:STANDARD
END:VTIMEZONE
BEGIN:VEVENT
DTSTART;TZID=UTC:20161022T090000
DTEND;TZID=UTC:20161022T123000
DTSTAMP:20260423T100115
CREATED:20160724T152907Z
LAST-MODIFIED:20160724T152907Z
UID:163252-1477126800-1477139400@menza.co.nz
SUMMARY:Big Band Festival Workshops
DESCRIPTION:9.00-10.00 – Jazz Improvisation Workshop with Scott Taitoko and Gwyn Reynolds \nHone your improvisation skills with some great tips and ideas from Scott and Gwyn \n9.00-10.30 – Rhythm Section Workshop with Tim Driver\, Michael Story and Michael Thompson \nExamine the important role the rhythm section has in the band\, share and discuss common problems that exist in the typical jazz ensemble setting and find solutions that can help your band  improve its sound and groove! \n10.15-12.15 – Youth Band Workshop with Rodger Fox \nIf you play a big band instrument and would love the opportunity to join with other young musicians in a big band setting come along and learn from the master of big band in NZ. \nTickets Available through Eventbrite\nhttps://www.eventbrite.co.nz/e/big-band-festival-workshops-tickets-26739659040
URL:https://menza.co.nz/event/big-band-festival-workshops/
LOCATION:Ara Music Arts\, 130 High Street\, Christchurch\, Canterbury\, 8011\, New Zealand
CATEGORIES:Canterbury
ATTACH;FMTTYPE=image/jpeg:https://menza.co.nz/wp-content/uploads/2016/07/facebook_event_258870007827747-1.jpg
ORGANIZER;CN="Big Band Festival":MAILTO:katie@bigbandfest.org.nz
END:VEVENT
END:VCALENDAR