BEGIN:VCALENDAR
VERSION:2.0
PRODID:-//MENZA - ECPv6.15.20//NONSGML v1.0//EN
CALSCALE:GREGORIAN
METHOD:PUBLISH
X-WR-CALNAME:MENZA
X-ORIGINAL-URL:https://menza.co.nz
X-WR-CALDESC:Events for MENZA
REFRESH-INTERVAL;VALUE=DURATION:PT1H
X-Robots-Tag:noindex
X-PUBLISHED-TTL:PT1H
BEGIN:VTIMEZONE
TZID:Pacific/Auckland
BEGIN:STANDARD
TZOFFSETFROM:+1300
TZOFFSETTO:+1200
TZNAME:NZST
DTSTART:20150404T140000
END:STANDARD
BEGIN:DAYLIGHT
TZOFFSETFROM:+1200
TZOFFSETTO:+1300
TZNAME:NZDT
DTSTART:20150926T140000
END:DAYLIGHT
BEGIN:STANDARD
TZOFFSETFROM:+1300
TZOFFSETTO:+1200
TZNAME:NZST
DTSTART:20160402T140000
END:STANDARD
BEGIN:DAYLIGHT
TZOFFSETFROM:+1200
TZOFFSETTO:+1300
TZNAME:NZDT
DTSTART:20160924T140000
END:DAYLIGHT
BEGIN:STANDARD
TZOFFSETFROM:+1300
TZOFFSETTO:+1200
TZNAME:NZST
DTSTART:20170401T140000
END:STANDARD
BEGIN:DAYLIGHT
TZOFFSETFROM:+1200
TZOFFSETTO:+1300
TZNAME:NZDT
DTSTART:20170923T140000
END:DAYLIGHT
END:VTIMEZONE
BEGIN:VEVENT
DTSTART;TZID=Pacific/Auckland:20161122T040000
DTEND;TZID=Pacific/Auckland:20161122T173000
DTSTAMP:20260423T083051
CREATED:20161116T020102Z
LAST-MODIFIED:20161116T020102Z
UID:163430-1479787200-1479835800@menza.co.nz
SUMMARY:MENZA Wellington PLD Workshop for Secondary Teachers
DESCRIPTION:MENZA Wellington PLD Workshop – FREE\n4pm\, 22 November 2016\nSt Bernard’s College\n183 Waterloo Rd\, Lower Hutt \nMENZA Wellington os pleased to present a professional development workshop for secondary teachers at 4pm on on Tuesday 22 November. Presenter Megan Brownlie’s workshop will focus on innovative\, multi-level NCEA practice ideas. \nFor further information contact Mary Horner: MHorner@sbc.school.nz
URL:https://menza.co.nz/event/menza-wellington-pld-workshop-for-secondary-teachers/
END:VEVENT
END:VCALENDAR