BEGIN:VCALENDAR
VERSION:2.0
PRODID:-//MENZA - ECPv6.15.20//NONSGML v1.0//EN
CALSCALE:GREGORIAN
METHOD:PUBLISH
X-WR-CALNAME:MENZA
X-ORIGINAL-URL:https://menza.co.nz
X-WR-CALDESC:Events for MENZA
REFRESH-INTERVAL;VALUE=DURATION:PT1H
X-Robots-Tag:noindex
X-PUBLISHED-TTL:PT1H
BEGIN:VTIMEZONE
TZID:UTC
BEGIN:STANDARD
TZOFFSETFROM:+0000
TZOFFSETTO:+0000
TZNAME:UTC
DTSTART:20160101T000000
END:STANDARD
END:VTIMEZONE
BEGIN:VEVENT
DTSTART;TZID=UTC:20170305T110000
DTEND;TZID=UTC:20170305T150000
DTSTAMP:20260423T023952
CREATED:20170301T204224Z
LAST-MODIFIED:20170301T204224Z
UID:163869-1488711600-1488726000@menza.co.nz
SUMMARY:Children's Day
DESCRIPTION:An awesome day of things to do and great music\, for tamariki of all ages.\nOn the MoreFM stage there will be music from CSM Junior Symphony Orchestra\, Nor’west Brand Band\, Aplify Music School\, Chisnallwood Intermediate\, Molly McGinn and Jackson Roche.  Awesome dancing from StarJam\, Latin Fire\, Sharon Howell’s School of Dance\, Scoil Rince Kay-Hallissey Irish Dance School.
URL:https://menza.co.nz/event/childrens-day/
CATEGORIES:Canterbury
ATTACH;FMTTYPE=image/jpeg:https://menza.co.nz/wp-content/uploads/2017/03/facebook_event_1921268448107319-1.jpg
END:VEVENT
END:VCALENDAR