BEGIN:VCALENDAR
VERSION:2.0
PRODID:-//MENZA - ECPv6.15.20//NONSGML v1.0//EN
CALSCALE:GREGORIAN
METHOD:PUBLISH
X-ORIGINAL-URL:https://menza.co.nz
X-WR-CALDESC:Events for MENZA
REFRESH-INTERVAL;VALUE=DURATION:PT1H
X-Robots-Tag:noindex
X-PUBLISHED-TTL:PT1H
BEGIN:VTIMEZONE
TZID:Pacific/Auckland
BEGIN:STANDARD
TZOFFSETFROM:+1300
TZOFFSETTO:+1200
TZNAME:NZST
DTSTART:20160402T140000
END:STANDARD
BEGIN:DAYLIGHT
TZOFFSETFROM:+1200
TZOFFSETTO:+1300
TZNAME:NZDT
DTSTART:20160924T140000
END:DAYLIGHT
BEGIN:STANDARD
TZOFFSETFROM:+1300
TZOFFSETTO:+1200
TZNAME:NZST
DTSTART:20170401T140000
END:STANDARD
BEGIN:DAYLIGHT
TZOFFSETFROM:+1200
TZOFFSETTO:+1300
TZNAME:NZDT
DTSTART:20170923T140000
END:DAYLIGHT
BEGIN:STANDARD
TZOFFSETFROM:+1300
TZOFFSETTO:+1200
TZNAME:NZST
DTSTART:20180331T140000
END:STANDARD
BEGIN:DAYLIGHT
TZOFFSETFROM:+1200
TZOFFSETTO:+1300
TZNAME:NZDT
DTSTART:20180929T140000
END:DAYLIGHT
END:VTIMEZONE
BEGIN:VEVENT
DTSTART;TZID=Pacific/Auckland:20170310T180000
DTEND;TZID=Pacific/Auckland:20170312T153000
DTSTAMP:20260423T040929
CREATED:20170209T040059Z
LAST-MODIFIED:20170209T040059Z
UID:163566-1489168800-1489332600@menza.co.nz
SUMMARY:Stephen Taberner Masterclass for Choir Leaders
DESCRIPTION:Want to develop your skills to get the best out of your choir?\nExplore the art of choir leading and performance with Stephen Taberner\, leader of The Spooky Men’s Chorale – one of the world’s funniest acappella acts\, delivered with fine close harmony singing\, impeccable tuning\, timing and dynamics! www.spookymen.com.au \nThe Spookmeister himself is going to teach us pretty much all the choir leading stuff he knows\, including:\n1. the art of blending\n2. the seven habits of highly successful choirs\n3. what he’s learnt about performance from the Spooky experience\n4. arranging for your and the choir’s satisfaction \nTotal cost: $260 to include Masterclass\, lunch\, supper & refreshments.\nThe venue is in the heart of Riverside Community\, nestled in the Moutere Hills\, near Motueka. Originally a church\, this unique building has lovely acoustics and beautiful views of the Kahurangi mountain ranges. Participants can book to stay at Riverside itself or at a local B&B. Minibus Nelson – Riverside. \nWhat could be better than getting together for a weekend with your peers to develop your skills under the impeccable leadership of the Spookmeister? \nFor more information visit our facebook page here\nFor booking details email: alice@leavesofgreen.co.nz
URL:https://menza.co.nz/event/stephen-taberner-masterclass-for-choir-leaders/
ATTACH;FMTTYPE=image/jpeg:https://menza.co.nz/wp-content/uploads/2017/02/16300535_1567306333283859_2157028609654486867_o-1.jpg
ORGANIZER;CN="Alice Robin":MAILTO:alice@leavesofgreen.co.nz
END:VEVENT
END:VCALENDAR