BEGIN:VCALENDAR
VERSION:2.0
PRODID:-//MENZA - ECPv6.15.20//NONSGML v1.0//EN
CALSCALE:GREGORIAN
METHOD:PUBLISH
X-WR-CALNAME:MENZA
X-ORIGINAL-URL:https://menza.co.nz
X-WR-CALDESC:Events for MENZA
REFRESH-INTERVAL;VALUE=DURATION:PT1H
X-Robots-Tag:noindex
X-PUBLISHED-TTL:PT1H
BEGIN:VTIMEZONE
TZID:UTC
BEGIN:STANDARD
TZOFFSETFROM:+0000
TZOFFSETTO:+0000
TZNAME:UTC
DTSTART:20160101T000000
END:STANDARD
END:VTIMEZONE
BEGIN:VEVENT
DTSTART;VALUE=DATE:20170531
DTEND;VALUE=DATE:20170601
DTSTAMP:20260423T070752
CREATED:20170502T101744Z
LAST-MODIFIED:20170502T101744Z
UID:164336-1496188800-1496275199@menza.co.nz
SUMMARY:Hook\, Line & Sing-a-long Day
DESCRIPTION:Join schools all over the country to celebrate singing in schools and original Kiwi music on May 31st\, the final day of NZ Music Month. \n This year’s winning song is “Cape Reinga” by Anouk van Dijk from Onewhero Area School.  \nGo to www.hooklineandsingalong.com to register your school and be in the draw for a $100 voucher from MusicWorks\, plus other great spot prizes.  Then explore our free teaching resources for “Cape Reinga” and all of our past winning songs! Have a look at last year’s fun here!  \n 
URL:https://menza.co.nz/event/hook-line-sing-a-long-day/
CATEGORIES:National
ATTACH;FMTTYPE=image/png:https://menza.co.nz/wp-content/uploads/2017/05/HLS-DP.png
ORGANIZER;CN="NZ Music Commission/MENZA":MAILTO:angel@nzmusic.org.nz
END:VEVENT
END:VCALENDAR