BEGIN:VCALENDAR
VERSION:2.0
PRODID:-//MENZA - ECPv6.15.20//NONSGML v1.0//EN
CALSCALE:GREGORIAN
METHOD:PUBLISH
X-ORIGINAL-URL:https://menza.co.nz
X-WR-CALDESC:Events for MENZA
REFRESH-INTERVAL;VALUE=DURATION:PT1H
X-Robots-Tag:noindex
X-PUBLISHED-TTL:PT1H
BEGIN:VTIMEZONE
TZID:UTC
BEGIN:STANDARD
TZOFFSETFROM:+0000
TZOFFSETTO:+0000
TZNAME:UTC
DTSTART:20160101T000000
END:STANDARD
END:VTIMEZONE
BEGIN:VEVENT
DTSTART;VALUE=DATE:20170623
DTEND;VALUE=DATE:20170624
DTSTAMP:20260423T100112
CREATED:20170507T133326Z
LAST-MODIFIED:20170507T133326Z
UID:164378-1498176000-1498262399@menza.co.nz
SUMMARY:DAYTiME in Auckland
DESCRIPTION:Presented by Music EDnet\, DAYTiME is an annual one-day conference come professional development day focused on integrating technology into your music program. It offers a unique opportunity to hear from some of Australia’s and New Zealand’s most knowledgeable and experienced exponents of the use of technology in music education\, as well as a chance to spend some time networking with your peers and sharing ideas and resources. \nDAYTiME has become the No. 1 conference in the region focusing on music technology\nin music education with the 2016 series attracting over 500 attendees. \nThe DAYTiME program includes an inspiring and thought-provoking keynote followed by a number of various sessions covering everything from planning for and successfully integrating technology into your music program\, to practical sessions in using software such as Sibelius\, Pro Tools\, Mixcraft and GarageBand\, from using iPads in the music classroom to exploring the wealth of resources available for delivering music with technology in primary\, middle and secondary school.
URL:https://menza.co.nz/event/daytime-in-auckland/
LOCATION:Ellerslie Event Centre\, 80 Ascot Ave\, Remuera\, Auckland\, 1050\, New Zealand
CATEGORIES:National
ATTACH;FMTTYPE=image/png:https://menza.co.nz/wp-content/uploads/2017/05/DaytimeAuckland.png
ORGANIZER;CN="Music EDnet":MAILTO:info@musicednet.co.nz
END:VEVENT
END:VCALENDAR