BEGIN:VCALENDAR
VERSION:2.0
PRODID:-//MENZA - ECPv6.15.20//NONSGML v1.0//EN
CALSCALE:GREGORIAN
METHOD:PUBLISH
X-ORIGINAL-URL:https://menza.co.nz
X-WR-CALDESC:Events for MENZA
REFRESH-INTERVAL;VALUE=DURATION:PT1H
X-Robots-Tag:noindex
X-PUBLISHED-TTL:PT1H
BEGIN:VTIMEZONE
TZID:UTC
BEGIN:STANDARD
TZOFFSETFROM:+0000
TZOFFSETTO:+0000
TZNAME:UTC
DTSTART:20160101T000000
END:STANDARD
END:VTIMEZONE
BEGIN:VEVENT
DTSTART;TZID=UTC:20170703T090000
DTEND;TZID=UTC:20170703T103000
DTSTAMP:20260423T125702
CREATED:20170531T213803Z
LAST-MODIFIED:20170531T213803Z
UID:164547-1499072400-1499077800@menza.co.nz
SUMMARY:Music Therapy Career Day for Year 12 & 13 Students
DESCRIPTION:Music Therapy Careers Day\nRaukatauri Music Therapy Centre\nMonday 3rd July 2017\, 9 – 10:30am\n15 Surrey Crescent\, Grey Lynn \nINTERESTED IN A CAREER IN MUSIC THERAPY? \nAs part of Music Therapy Week The Raukatauri Music Therapy Centre warmly invites year 12 and 13 students to come and speak with registered music therapists about who they work with\, the settings they work in\, and what music therapy is. Student music therapists will also share about training in NZ and internationally. You’ll get the chance to have a look around the Centre\, watch selected video and get an experiential taste of music therapy at Raukatauri. \nIf interested please RSVP to info@rmtc.org.nz by June 21st\nFree event. Space is limited to 3 students per school\, on a first come first served basis.
URL:https://menza.co.nz/event/music-therapy-career-day-for-year-12-13-students/
ATTACH;FMTTYPE=image/png:https://menza.co.nz/wp-content/uploads/2017/06/Screen-Shot-2017-06-01-at-9.26.33-PM.png
END:VEVENT
END:VCALENDAR