BEGIN:VCALENDAR
VERSION:2.0
PRODID:-//MENZA - ECPv6.15.20//NONSGML v1.0//EN
CALSCALE:GREGORIAN
METHOD:PUBLISH
X-ORIGINAL-URL:https://menza.co.nz
X-WR-CALDESC:Events for MENZA
REFRESH-INTERVAL;VALUE=DURATION:PT1H
X-Robots-Tag:noindex
X-PUBLISHED-TTL:PT1H
BEGIN:VTIMEZONE
TZID:UTC
BEGIN:STANDARD
TZOFFSETFROM:+0000
TZOFFSETTO:+0000
TZNAME:UTC
DTSTART:20160101T000000
END:STANDARD
END:VTIMEZONE
BEGIN:VEVENT
DTSTART;TZID=UTC:20170907T160000
DTEND;TZID=UTC:20170907T170000
DTSTAMP:20260423T175758
CREATED:20170429T103552Z
LAST-MODIFIED:20170429T103552Z
UID:164303-1504800000-1504803600@menza.co.nz
SUMMARY:Wellington Region Secondary School Music Teachers Network Meeting
DESCRIPTION:Wellington region Secondary School Music Teachers Network Meetings;\n\n \n4pm\, Thursday 7th September\nHeretaunga College with Megan Brownie\n Ward Street\, Wallaceville\, Upper Hutt 5018\nNCEA performance – Assessment and Moderation\n \nAll secondary school music teachers are very welcome. Bring your energy\, expertise and queries and share!!\n \nAny more info\, mhorner@sbc.school.nz
URL:https://menza.co.nz/event/wellington-region-secondary-school-music-teachers-network-meeting/
LOCATION:Heretaunga College\, Ward Street\, Wallaceville\, Upper Hutt\, Wellington\, 5018\, New Zealand
END:VEVENT
END:VCALENDAR