BEGIN:VCALENDAR
VERSION:2.0
PRODID:-//MENZA - ECPv6.15.20//NONSGML v1.0//EN
CALSCALE:GREGORIAN
METHOD:PUBLISH
X-WR-CALNAME:MENZA
X-ORIGINAL-URL:https://menza.co.nz
X-WR-CALDESC:Events for MENZA
REFRESH-INTERVAL;VALUE=DURATION:PT1H
X-Robots-Tag:noindex
X-PUBLISHED-TTL:PT1H
BEGIN:VTIMEZONE
TZID:Pacific/Auckland
BEGIN:STANDARD
TZOFFSETFROM:+1300
TZOFFSETTO:+1200
TZNAME:NZST
DTSTART:20160402T140000
END:STANDARD
BEGIN:DAYLIGHT
TZOFFSETFROM:+1200
TZOFFSETTO:+1300
TZNAME:NZDT
DTSTART:20160924T140000
END:DAYLIGHT
BEGIN:STANDARD
TZOFFSETFROM:+1300
TZOFFSETTO:+1200
TZNAME:NZST
DTSTART:20170401T140000
END:STANDARD
BEGIN:DAYLIGHT
TZOFFSETFROM:+1200
TZOFFSETTO:+1300
TZNAME:NZDT
DTSTART:20170923T140000
END:DAYLIGHT
BEGIN:STANDARD
TZOFFSETFROM:+1300
TZOFFSETTO:+1200
TZNAME:NZST
DTSTART:20180331T140000
END:STANDARD
BEGIN:DAYLIGHT
TZOFFSETFROM:+1200
TZOFFSETTO:+1300
TZNAME:NZDT
DTSTART:20180929T140000
END:DAYLIGHT
END:VTIMEZONE
BEGIN:VEVENT
DTSTART;VALUE=DATE:20171009
DTEND;VALUE=DATE:20171012
DTSTAMP:20260423T232616
CREATED:20170319T161316Z
LAST-MODIFIED:20170319T161316Z
UID:163874-1507507200-1507766399@menza.co.nz
SUMMARY:Make Some Noise! MENZA (Music Education New Zealand Aotearoa) Conference 2017
DESCRIPTION:This Conference is for all Music Educators (teachers and itinerant teachers of music) from early childhood\, primary and secondary sectors to: \n\nfocus on pedagogy in music education\, latest ideas and best practice\nhear innovative ideas and solutions around developing musical literacy\nhear/share with other practitioners methods around leading ensembles\nfocus on culturally responsive practice and inclusive practice in music\nexplore how to integrate digital technology into classroom practice\nlearn how to ‘fight the good fight’: how to be an advocate for music in your context\n\nThe conference programme will also include the following and more… \nFor Primary educators: \n\nbuilding classroom practice\ndeveloping musical literacy e.g. Orff\, Kodaly\ntaonga pūoro\nwaiata\npasifika\nsongs for the Primary classroom\nintegrating digital technology in your music programme\nmusic and the environment\nimprovisation musical games\n\nFor Early Childhood educators: \n\nmusical play singing\nwaiata for ECE\nmaking and playing instruments\nmusic and stories\nOrff in ECE\nmusic and movement\ndigital tools for music in ECE\n\nFor Secondary educators: \n\nsong writing\ndirecting ensembles\nmusic technology\ntaonga pūoro\nmoderation and NCEA\nmanaging a music department\njunior programmes\nHOD as mentor\nhow to make your music programme inclusive of students with disabilities\n\nFor Itinerant Teachers of Music: \n\ninquiry based learning\nprofessional learning groups\ndigital portfolio exemplars\ncultural competencies for ITMs\ninstrumental music pedagogies\nteaching groups motivating students\n\nDates: 9 – 11th October\, 2017 Cost: (if paid by early bird date 25/08/2017\, if paid after an additional $100 applies) \nVenue: Holy Cross School\, Miramar\, Wellington \nMENZA member: $300 Non-MENZA member: $330 (incl membership) \nAccommodation: Available at Brentwood Hotel\, TRCC will provide shuttles to and from venue – see TRCC website for live in registration options and costs \nOrganisers: Celia Stewart\, Tim Carson\, Selena Bercic and Andrew Stopps (MENZA) \nRegistrations close: 1 September\, 2017 \nRegister here \nConference fee includes: Conference and catering. Live in fees available on TRCC website. Travel subsidy available as per the TRCC travel policy (see website for details) for the first 80 paid registrations \n171001-Make-some-noise (pdf)
URL:https://menza.co.nz/event/make-some-noise-menza-music-education-new-zealand-aotearoa-conference-2017/
CATEGORIES:National
ATTACH;FMTTYPE=image/png:https://menza.co.nz/wp-content/uploads/2017/03/MENZA-small-logo-1.png
END:VEVENT
END:VCALENDAR