BEGIN:VCALENDAR
VERSION:2.0
PRODID:-//MENZA - ECPv6.15.20//NONSGML v1.0//EN
CALSCALE:GREGORIAN
METHOD:PUBLISH
X-ORIGINAL-URL:https://menza.co.nz
X-WR-CALDESC:Events for MENZA
REFRESH-INTERVAL;VALUE=DURATION:PT1H
X-Robots-Tag:noindex
X-PUBLISHED-TTL:PT1H
BEGIN:VTIMEZONE
TZID:UTC
BEGIN:STANDARD
TZOFFSETFROM:+0000
TZOFFSETTO:+0000
TZNAME:UTC
DTSTART:20160101T000000
END:STANDARD
END:VTIMEZONE
BEGIN:VEVENT
DTSTART;TZID=UTC:20171029T160000
DTEND;TZID=UTC:20171029T190000
DTSTAMP:20260423T220824
CREATED:20171025T115610Z
LAST-MODIFIED:20171025T115610Z
UID:164818-1509292800-1509303600@menza.co.nz
SUMMARY:Flutes of Dunedin
DESCRIPTION:The Flutes of Dunedin\nSunday 29 October 2017\n5pm Concert\, with pre-concert taonga pūoro demonstration at 4:15pm\nBayfield High School\, 2 Shore Street\, Anderson’s Bay\, Dunedin \nThe Flutes of Dunedin concert is happening this Sunday the 29th of October at 5pm. Guest performer and teacher for the day Bridget Douglas will be performing the Poulenc flute sonata with Sandra Crawshaw. Justine Pierre\, Philippa McNulty\, Fiona Pickering\, Natasha Manowitz and Rosalind Manowitz will be performing arrangements of Latin tunes for flute quintet. Justine Pierre will also be performing a Japanese flute solo. Nichola Genn Harris will be playing Survivor of Rekohu by Dunedin composer Anthony Ritchie (a piece that features the western flute and Maori flutes) and Jennifer Cattermole will be performing a piece on Taonga pūoro (Maori instruments). The two flute choirs formed especially for the flute day will be presenting an item each\, and there’ll be one or two more surprise items too! \nPrior to the concert\, Jennifer Cattermole will be doing a demonstration on the various Maori instruments featured at 4.15pm for around 20 minutes. Everyone coming along to watch the concert are welcome to come early to learn about the different instruments and how they work (at no extra charge). \nThis concert is for people of all ages and will showcase a variety of flute music from NZ and around the world for solo flute (on the western flute\, Maori flutes and Japanese flute) and within small and large ensembles. \nEntry is by donation (cash door sales only)\, with all donations going towards the running of the day of workshops and masterclasses. The concert is going to be held at Bayfield High School Hall\, 2 Shore Street\, Andersons Bay. \nThis concert marks the end of the Dunedin Flute Day\, a day of masterclasses\, workshops for flute students and teachers. For more information on the event please see the Facebook event page. If you’re interested in signing up as a flutists there are still spaces available – contact natashamanowitz@gmail.com \n 
URL:https://menza.co.nz/event/flutes-of-dunedin/
LOCATION:Bayfield High School\, 2 Shore Street\, Anderson's Bay\, Dunedin\, New Zealand
ATTACH;FMTTYPE=image/png:https://menza.co.nz/wp-content/uploads/2017/10/Screen-Shot-2017-10-26-at-1.50.20-PM.png
END:VEVENT
END:VCALENDAR