BEGIN:VCALENDAR
VERSION:2.0
PRODID:-//MENZA - ECPv6.15.20//NONSGML v1.0//EN
CALSCALE:GREGORIAN
METHOD:PUBLISH
X-WR-CALNAME:MENZA
X-ORIGINAL-URL:https://menza.co.nz
X-WR-CALDESC:Events for MENZA
REFRESH-INTERVAL;VALUE=DURATION:PT1H
X-Robots-Tag:noindex
X-PUBLISHED-TTL:PT1H
BEGIN:VTIMEZONE
TZID:UTC
BEGIN:STANDARD
TZOFFSETFROM:+0000
TZOFFSETTO:+0000
TZNAME:UTC
DTSTART:20160101T000000
END:STANDARD
END:VTIMEZONE
BEGIN:VEVENT
DTSTART;TZID=UTC:20171203T163000
DTEND;TZID=UTC:20171203T183000
DTSTAMP:20260423T232611
CREATED:20171031T193431Z
LAST-MODIFIED:20171031T193431Z
UID:164862-1512318600-1512325800@menza.co.nz
SUMMARY:Debut to Diploma: Rockschool - Making it Count
DESCRIPTION:ROCKSCHOOL IN ASSOCIATION WITH MUSIC PLANET PRESENTS… \nDebut to Diploma: Rockschool – Making it Count \nYou are invited to attend a FREE and casual information session on the Rockschool Graded Music Syllabuses now delivered across New Zealand. \nCome and meet Lead Examiner\, Alyson Locke and join in the discussion about how Rockschool can take students from their first contemporary music experience all the way to an internationally recognised diploma. \nWHEN: Sunday 3 December @ 4.30pm\nWHERE: Music Planet\, 100 Broadway Avenue. Palmerston North\nRSVP: Ph: (06) 355-5455 palmerston@musicplanet.co.nz \nOn the day: \n\nRefreshments will be served\nDiscounts on Rockschool books\nDiscounts on selected instruments in store\nStudent Performances\n\nFor general enquiries on the events please contact Fiona – contact@rockschoolnz.co.nz \nmusicplanet.co.nz / rockschoolnz.co.nz
URL:https://menza.co.nz/event/debut-to-diploma-rockschool-making-it-count-2/
LOCATION:Music Planet Palmerston North\, 100 Broadway Avenue\, Palmerston North\, New Zealand
ATTACH;FMTTYPE=image/png:https://menza.co.nz/wp-content/uploads/2017/11/Screen-Shot-2017-11-01-at-9.25.59-PM.png
END:VEVENT
END:VCALENDAR