BEGIN:VCALENDAR
VERSION:2.0
PRODID:-//MENZA - ECPv6.15.20//NONSGML v1.0//EN
CALSCALE:GREGORIAN
METHOD:PUBLISH
X-WR-CALNAME:MENZA
X-ORIGINAL-URL:https://menza.co.nz
X-WR-CALDESC:Events for MENZA
REFRESH-INTERVAL;VALUE=DURATION:PT1H
X-Robots-Tag:noindex
X-PUBLISHED-TTL:PT1H
BEGIN:VTIMEZONE
TZID:UTC
BEGIN:STANDARD
TZOFFSETFROM:+0000
TZOFFSETTO:+0000
TZNAME:UTC
DTSTART:20170101T000000
END:STANDARD
END:VTIMEZONE
BEGIN:VTIMEZONE
TZID:UTC
BEGIN:STANDARD
TZOFFSETFROM:+0000
TZOFFSETTO:+0000
TZNAME:UTC
DTSTART:20170101T000000
END:STANDARD
END:VTIMEZONE
BEGIN:VEVENT
DTSTART;VALUE=DATE:20180118
DTEND;VALUE=DATE:20180122
DTSTAMP:20260423T175541
CREATED:20171025T143559Z
LAST-MODIFIED:20171025T143559Z
UID:164832-1516233600-1516579199@menza.co.nz
SUMMARY:IRMT Waikato presents Pathways to Performance
DESCRIPTION:Pathways to Performance\nIRMT National Conference \n18 – 21 January 2018\nThe University of Waikato\, Knighton Road\, Hamilton \nSpecial rate for MENZA members\nRegister before 30 November for early bird prices.\n\nThe The Waikato Branch of the Institute of Registered Music Teachers welcomes the members of MENZA to join us for the 2018 National Conference.\n\nHeld in the Academy of Performing Arts\, delegates will get to experience the acoustics of the renowned Gallagher Concert Chamber and hear from internationally-recognised presenters and performers. \nThe programme is divided into two streams: piano and voice. Highly targeted masterclasses from experts in their fields will provide insight on these topics and more. This is an event not to be missed! \nWe are pleased to offer MENZA the same ticket price as IRMTNZ members. Registrations must be completed before the 30th November to receive our early bird rate ($269). All details regarding the conference can be found online here.
URL:https://menza.co.nz/event/irmt-waikato-presents-pathways-to-performance/
LOCATION:University of Waikato Hamilton Campus\, Knighton Road\, Hamilton\, New Zealand
ATTACH;FMTTYPE=image/png:https://menza.co.nz/wp-content/uploads/2017/10/Screen-Shot-2017-10-19-at-12.06.49-PM.png
END:VEVENT
BEGIN:VEVENT
DTSTART;TZID=UTC:20180120T090000
DTEND;TZID=UTC:20180120T150000
DTSTAMP:20260423T175541
CREATED:20180119T193248Z
LAST-MODIFIED:20180119T193248Z
UID:164936-1516438800-1516460400@menza.co.nz
SUMMARY:A Cappella Bootcamp! (ages 7-17)
DESCRIPTION:Brand new for 2018 we’re excited to bring you NZ’s first Contemporary A Cappella BOOTCAMP!!! \nDo you know a keen young singer between the ages of 7-17? Then make sure you get them signed up for A Cappella Bootcamp quick-smart!  \nHosted by the award-winning Voices Co. Contemporary A Cappella Academy\, this 1 day\, action-packed vocal workshop is set up to engage and empower young singers\, and has something for both beginner and experienced vocalists alike. \nThroughout the 8 Sessions we explore a variety of vocal skills used both in contemporary a cappella and in everyday singing. Topics include:\n– Accessing your voice\n– Ensemble skills\n– Vocal health for young voices\n– Vocal + body percussion\n– Performance skills\n– Stagecraft + movement \n2018 tutors include:\n– Voices Co. Musical Director Julian Hay\n– Speech & Language Pathologist Jasmine Salam\n– Performance Coach Malia Hay\nas well as an open panel with Naked Choir winners Voices Co.  \nREGISTER ONLINE TODAY: http://www.voicesco.nz \nRegistrations close on Weds 17th Jan 2018 and places are very limited so get in quick to make sure you don’t miss out!! \nWHAT?   A Cappella BootCamp\nWHEN?   9am-3pm\, Saturday 20th Jan 2018\nWHERE?   Orange Studios\, Ferrymead\, Christchurch\nWHO?   Singers of all levels\, aged 7-17\nHOW MUCH?  $79\nWHY?   To help encourage\, equip and empower the next generation of singers to find their voice!
URL:https://menza.co.nz/event/a-cappella-bootcamp-ages-7-17/
LOCATION:Orange Studio\, 1063c Ferry Road\, Christchurch\, 8023\, New Zealand
CATEGORIES:Canterbury
ATTACH;FMTTYPE=image/jpeg:https://menza.co.nz/wp-content/uploads/2018/01/9702488ea43d2c98751b9772da9c7a66.jpg
END:VEVENT
BEGIN:VEVENT
DTSTART;TZID=UTC:20180120T093000
DTEND;TZID=UTC:20180120T153000
DTSTAMP:20260423T175541
CREATED:20180107T135820Z
LAST-MODIFIED:20180107T135820Z
UID:164907-1516440600-1516462200@menza.co.nz
SUMMARY:ONZA 2018 Summer Workshop
DESCRIPTION:This movement/music workshop will offer participants the opportunity to engage with Māori legend/story using processes involving dance and music. Participants will explore ways of integrating the elements of dance from the NZ Curriculum with Maori dance movements associated with haka\, poi and waiata ringa. A range of contemporary NZ music will be used to inspire this dance work. \nPresenters\n\nLiz Melchior: Liz is dance lecturer in the School of Education at Victoria University of Wellington\, New Zealand\, where she teaches in early childhood and secondary initial teacher education programmes. An experienced primary school teacher\, Liz was a writer for the dance curriculum\, providing professional development programmes for teachers implementing dance in the classroom. In recognition of her services to dance in education\, Liz was recently awarded a life membership of the New Zealand Dance Subject Association (NZDSA) \n \nPriya Gain: Priya is currently completing a Masters of Education specialising in music and arts education at the University of Waikato. She teaches at Eastern Hutt School as music/movement specialist across the whole school. She has completed ONZA certificated training up to Level 4 in the Aotearoa/New Zealand context. She has a strong commitment to the development of local teaching resources which express the bicultural identity of this country. She has been a regular guest lecturer within the School of Education at Victoria University teaching music modules in the primary learning programme since 2016. \nInquiries: Dr Millie Locke \nFEES:\n• ONZA members: $80\n• Non-members: $100\n• Students: $35 \nTo apply for or renew ONZA membership go to Membership page. \nRegister and pay\nRegister your name and details online HERE. Then\, use you own internet banking facility to make a direct deposit into the ONZA account at BNZ 02 0248 0073940 097 (Reference: Your surname; Code: SUM18). Entering your surname means you will be registered.
URL:https://menza.co.nz/event/onza-2018-summer-workshop/
LOCATION:Wairau Intermediate\, 113 Becroft Dr\, Forrest Hill\, Auckland\, 0620\, New Zealand
CATEGORIES:Auckland and Northland
END:VEVENT
END:VCALENDAR