BEGIN:VCALENDAR
VERSION:2.0
PRODID:-//MENZA - ECPv6.15.20//NONSGML v1.0//EN
CALSCALE:GREGORIAN
METHOD:PUBLISH
X-WR-CALNAME:MENZA
X-ORIGINAL-URL:https://menza.co.nz
X-WR-CALDESC:Events for MENZA
REFRESH-INTERVAL;VALUE=DURATION:PT1H
X-Robots-Tag:noindex
X-PUBLISHED-TTL:PT1H
BEGIN:VTIMEZONE
TZID:UTC
BEGIN:STANDARD
TZOFFSETFROM:+0000
TZOFFSETTO:+0000
TZNAME:UTC
DTSTART:20170101T000000
END:STANDARD
END:VTIMEZONE
BEGIN:VEVENT
DTSTART;VALUE=DATE:20180723
DTEND;VALUE=DATE:20180729
DTSTAMP:20260423T012009
CREATED:20180307T100529Z
LAST-MODIFIED:20180307T100529Z
UID:164993-1532304000-1532822399@menza.co.nz
SUMMARY:ASQ International Music Academy 2018 - Applications close 15 April
DESCRIPTION:Applications are now open for the 2018 ASQ International Music Academy\, which will take place from 23-28 July at St Andrew’s on The Terrace in Wellington. Participants can enrol for either the full six-day course\, or a shorter version running Thursday to Saturday.\n\n\nThe e-flyer\, brochure and application form for 2018 Academy can be downloaded from www.arohaquartet.co.nz/asq-academy-2018.\n\n\n\n\nThe ASQ Academy is ideal for student and adult non-professional string players and pianists of a minimum standard of Grade VI. A maximum of three pianists will be accepted\, for the full course only. Participants receive chamber music and string orchestra coaching\, take part in masterclasses\, sectionals\, informal concerts\, social events\, and the final concert on the Saturday evening. There will also be public lunchtime concerts for particpants and tutors.\n\n\n\n\nGuest tutors are: pianist Emma Sayers (formerly lecturer at Massey University Conservatorium of Music and the New Zealand School of Music)\, violinist Donald Armstrong (NZSO Associate Concertmaster)\, cellist Ken Ichinose (NZSO Associate Principal Cello)\, double bassist Joan Perarnau Garriga (NZSO Principal Double Bass) and chamber music coach Brian Shillito (former NZSO Sub-Principal Viola).\n\n\n\n\nApplications close on Sunday 15 April.
URL:https://menza.co.nz/event/asq-international-music-academy-2018-applications-close-15-april/
LOCATION:St Andrew’s on the Terrace\, 30 The Terrace\, Wellington\, 6011\, New Zealand
ATTACH;FMTTYPE=image/png:https://menza.co.nz/wp-content/uploads/2018/03/Screen-Shot-2018-03-08-at-12.07.14-pm.png
END:VEVENT
BEGIN:VEVENT
DTSTART;TZID=UTC:20180728T190000
DTEND;TZID=UTC:20180728T210000
DTSTAMP:20260423T012009
CREATED:20180726T175430Z
LAST-MODIFIED:20180726T175430Z
UID:165312-1532804400-1532811600@menza.co.nz
SUMMARY:Virtuoso Strings Orchestra's 2018 Winter Concert
DESCRIPTION:The Virtuoso Strings Orchestra is pleased to present a homecoming concert to celebrate our successful 2018 South Island Tour! \nJoin us for an energetic\, heart-warming and inspiring night featuring everything from Beethoven to the Beatles… Gypsy fiddle tunes to the Elgar Cello concerto. \nThe concert will be family-friendly. \nThe Concert is at Aotea College on Saturday the 28th of July at 7pm. \nFREE admission\, but donations to the Virtuoso Strings Charitable Trust are gratefully accepted. \nFacebook event https://www.facebook.com/events/2137830409797785/ \n  \n 
URL:https://menza.co.nz/event/virtuoso-strings-orchestras-2018-winter-concert/
LOCATION:Aotea Centre\, 50 Mayoral Drive\, Auckland\, 1010
CATEGORIES:Auckland and Northland
ATTACH;FMTTYPE=image/jpeg:https://menza.co.nz/wp-content/uploads/2018/07/Virtuoso-Strings.jpg
END:VEVENT
END:VCALENDAR