BEGIN:VCALENDAR
VERSION:2.0
PRODID:-//MENZA - ECPv6.15.20//NONSGML v1.0//EN
CALSCALE:GREGORIAN
METHOD:PUBLISH
X-ORIGINAL-URL:https://menza.co.nz
X-WR-CALDESC:Events for MENZA
REFRESH-INTERVAL;VALUE=DURATION:PT1H
X-Robots-Tag:noindex
X-PUBLISHED-TTL:PT1H
BEGIN:VTIMEZONE
TZID:UTC
BEGIN:STANDARD
TZOFFSETFROM:+0000
TZOFFSETTO:+0000
TZNAME:UTC
DTSTART:20170101T000000
END:STANDARD
END:VTIMEZONE
BEGIN:VEVENT
DTSTART;TZID=UTC:20180801T090000
DTEND;TZID=UTC:20180801T153000
DTSTAMP:20260423T000038
CREATED:20180612T134706Z
LAST-MODIFIED:20180612T134706Z
UID:165230-1533114000-1533137400@menza.co.nz
SUMMARY:MENZA Tauranga PD - Effective Music Technology
DESCRIPTION:MENZA Tauranga PD – Effective Music Technology \nDate: Wednesday 1 August  2018\nVenue: Tauranga Boys College\nPlace: Mayfield House.\nFee: $30 for MENZA members $60 for Non-MENZA members (membership fee included)\nMorning and afternoon tea provided\, BYO lunch \nREGISTER HERE \nThis PD day is designed to support Intermediate and Secondary teachers in delivering the Music Curriculum\, with a particular focus on Music Technology and digital integration. There is flexibly within the day to specifically address questions that attendees have\, including trouble shooting your problems. You are encouraged to bring your laptop/devices.  Follow up visits are also proposed to support local schools free of charge on Thursday 2 and Friday 3 August.  Please indicate on the form whether you would like a visit. \nPhil Pegler\, will be the facilitator for the day. He is currently NZ Manager for Music EDnet\, and previously HOD Performing Arts NaeNae College. He has a Masters in Education: MIDI composition systems\, recently completed a PG Cert. (Digital and Collaborative Learning) and is passionate about increasing student engagement & making life easier for teachers.  He taught Media\, Film and Sound\, including Production Sound Recording (National Cert)\, alongside Music and has been known to moonlight as DJ\, Sound Engineer/Producer and Production Manager.  He is on the Music Education New Zealand Aotearoa (MENZA) Board. \nMartin Emo is currently HOD Performing Arts at Waimea College\, TKI Musicnet Community Facilitator\, NZQA Exam/digital consultant NZQA\, EDnet Australaisan Music Technology Mentor. Martin is currently completing a Masters in ELearning looking at digital exams and coding. For the last 6 years\, he has taught a multilevel Music Technology and Performing Arts full year subject. He also has worked in Digital Technology sales\, and performs live electronic music. \nIt is proposed that an on-line forum for discussing issues and sharing resources be set up to encourage ongoing support and interaction.  A key goal is that this micro – community will be driven by peer-to-peer interactions and become self-sustaining over time. \nOutline\n9:30am – 10am Introductions\, overview\, goals.\n10am -12pm Session One. Music Technology integration. (Morning Tea Included)\n12pm -12:30pm Lunch\n12:30pm – 2pm Session Two. Hands on Music Technology training\n2pm – 3:30pm Session Three. Other specific items that have arisen during the day. For example songwriting\, Performing Arts Technology Standards courses/integration. \nREGISTER HERE
URL:https://menza.co.nz/event/menza-tauranga-pd-effective-music-technology/
LOCATION:Tauranga Boys College\, 664 Cameron Rd\, Tauranga South\, Tauranga\, 3112\, New Zealand
ATTACH;FMTTYPE=image/jpeg:https://menza.co.nz/wp-content/uploads/2018/06/BEST-INcredibox-copy-ED.jpg
END:VEVENT
END:VCALENDAR