BEGIN:VCALENDAR
VERSION:2.0
PRODID:-//MENZA - ECPv6.15.20//NONSGML v1.0//EN
CALSCALE:GREGORIAN
METHOD:PUBLISH
X-ORIGINAL-URL:https://menza.co.nz
X-WR-CALDESC:Events for MENZA
REFRESH-INTERVAL;VALUE=DURATION:PT1H
X-Robots-Tag:noindex
X-PUBLISHED-TTL:PT1H
BEGIN:VTIMEZONE
TZID:UTC
BEGIN:STANDARD
TZOFFSETFROM:+0000
TZOFFSETTO:+0000
TZNAME:UTC
DTSTART:20170101T000000
END:STANDARD
END:VTIMEZONE
BEGIN:VEVENT
DTSTART;VALUE=DATE:20180906
DTEND;VALUE=DATE:20180907
DTSTAMP:20260422T211303
CREATED:20180522T154130Z
LAST-MODIFIED:20180522T154130Z
UID:165224-1536192000-1536278399@menza.co.nz
SUMMARY:APO Kiwi Kapers
DESCRIPTION:APO Kiwi Kapers \nWe introduce primary and intermediate students to orchestral music with this engaging concert experience\, \nIn this one-hour narrated concert\, students connect with the orchestra in a fun and engaging way to learn more about music. \nStudents hear the different orchestral sections and instruments and follow the stories that the music makes. A preconcert study guide for schools ensures greater enjoyment for students both before and after their concert experience. \nIn 2018 Kiwi Kapers includes The Auckland Dance Project performance. \n\nThursday 6 September\, Auckland Town Hall\n11.30am & 1pm\nMonday 10 September\, Vodafone Events Centre\n11.30am & 1pm\n\nConcerts are free for APOPS schools or $6 per students.  Accompanying adults are free at a ratio of 1adult:10students.  If your school trip policy requires a different ratio\, please contact us on apoconnecting@apo.co.nz
URL:https://menza.co.nz/event/apo-kiwi-kapers/
LOCATION:Auckland Town Hall\, Queen Street\, Auckland\, 1010\, New Zealand
ATTACH;FMTTYPE=image/png:https://menza.co.nz/wp-content/uploads/2018/05/Screen-Shot-2018-05-23-at-3.36.15-PM.png
END:VEVENT
BEGIN:VEVENT
DTSTART;TZID=UTC:20180906T090000
DTEND;TZID=UTC:20180906T150000
DTSTAMP:20260422T211303
CREATED:20180307T094625Z
LAST-MODIFIED:20180307T094625Z
UID:164991-1536224400-1536246000@menza.co.nz
SUMMARY:Wellington Orchestra Festival
DESCRIPTION:Wellington Orchestra Festival (WOF)\nThursday 6 September\, 9.15am – 2.45pm\nScot’s College\, Strathmore Park\, Wellington\n$50 for MENZA members or $80 for Non-MENZA Members \nREGISTER NOW\, HERE! \nThis is intended for senior primary and intermediate students but older and younger students also join us for a day of rehearsals and a concert to finish having practised music prior. We would love to welcome new schools to these and can assist in preparations so please be in touch.
URL:https://menza.co.nz/event/wellington-orchestra-festival/
LOCATION:Scots’ College\, 1 Monorgan Road\, Strathmore Park\, Wellington\, 6022\, New Zealand
END:VEVENT
END:VCALENDAR