BEGIN:VCALENDAR
VERSION:2.0
PRODID:-//MENZA - ECPv6.15.20//NONSGML v1.0//EN
CALSCALE:GREGORIAN
METHOD:PUBLISH
X-ORIGINAL-URL:https://menza.co.nz
X-WR-CALDESC:Events for MENZA
REFRESH-INTERVAL;VALUE=DURATION:PT1H
X-Robots-Tag:noindex
X-PUBLISHED-TTL:PT1H
BEGIN:VTIMEZONE
TZID:UTC
BEGIN:STANDARD
TZOFFSETFROM:+0000
TZOFFSETTO:+0000
TZNAME:UTC
DTSTART:20170101T000000
END:STANDARD
END:VTIMEZONE
BEGIN:VEVENT
DTSTART;TZID=UTC:20181027T090000
DTEND;TZID=UTC:20181027T150000
DTSTAMP:20260422T181833
CREATED:20181003T080703Z
LAST-MODIFIED:20181003T080703Z
UID:165415-1540630800-1540652400@menza.co.nz
SUMMARY:He Rahi Te Iti - little can be huge
DESCRIPTION:MENZA Networks of Expertise presents… \nHe Rahi Te Iti – little can be huge\nA Northland music education PLD event for ECE / kōhanga reo\, primary and secondary educators \nVenue: Kaitaia College\, Music Department\nDate: Saturday 27th October 2018\nTime: 9.00am – 3.00pm\nCost: $40.00 includes annual MENZA membership\, $10.00 for members\, Free for full-time teacher trainees and beginning teachers\nLunch provided\nREGISTER HERE TODAY!\n \nPresenters:\nTroy Kingi – Musician / Actor / Dirt Blues Extraordinaire\nRobyn Trinick & Belinda Carey – MENZA Kaiārahi\nSelena Bercic – Kaitautoko Mātauranga\, Far North REAP / MENZA Board Representitive\nRawiri Hindle – University of Auckland \nWorkshops include:\nKei hea te kōmako e kō? – Where will the bellbird sing? – exploring ways to use the online resource Hei Waiata\, Hei Whakakoakoa\nTe Taiao – Music as enquiry using the natural environment\nWaiata and Ukulele skills\nNCEA A.S. Composition and L3 US Song Writing – integrating Te Reo and Pasifika\, useful technology and management docs for busy secondary departments \nJoin us for an opportunity to network with colleagues and be refreshed and inspired \nREGISTER HERE TODAY!
URL:https://menza.co.nz/event/kaitaia/
LOCATION:Kaitaia College\, Redan Road\, Kaitaia\, 0410\, New Zealand
ATTACH;FMTTYPE=image/jpeg:https://menza.co.nz/wp-content/uploads/2018/06/Menza-Logo-Design-1.jpg
END:VEVENT
END:VCALENDAR