BEGIN:VCALENDAR
VERSION:2.0
PRODID:-//MENZA - ECPv6.15.20//NONSGML v1.0//EN
CALSCALE:GREGORIAN
METHOD:PUBLISH
X-ORIGINAL-URL:https://menza.co.nz
X-WR-CALDESC:Events for MENZA
REFRESH-INTERVAL;VALUE=DURATION:PT1H
X-Robots-Tag:noindex
X-PUBLISHED-TTL:PT1H
BEGIN:VTIMEZONE
TZID:UTC
BEGIN:STANDARD
TZOFFSETFROM:+0000
TZOFFSETTO:+0000
TZNAME:UTC
DTSTART:20170101T000000
END:STANDARD
END:VTIMEZONE
BEGIN:VEVENT
DTSTART;TZID=UTC:20181122T183000
DTEND;TZID=UTC:20181122T203000
DTSTAMP:20260422T181840
CREATED:20180522T153138Z
LAST-MODIFIED:20180522T153138Z
UID:165218-1542911400-1542918600@menza.co.nz
SUMMARY:Tchaikovsky The Nutcracker
DESCRIPTION:  \nAPO UNWRAP THE MUSCI SERIES\nTchaikovsky The Nutcracker: Suite No.1\nConductor/Presenter Richard Gill \nWhen composing ballet music\, Tchaikovsky was given very strict instructions by his choreographers. Many composers would struggle with such an artistic straitjacket. Tchaikovsky not only delivered exactly what was required\, but responded with some of his best work. Hear the absorbing story of how he did it. \nThe ebullient music educator/conductor Richard Gill joins the orchestra again to ‘unwrap’ this great orchestral work and reveal what makes it so special. \nPart concert\, part interactive talk\, each Unwrap the Music is guaranteed to take your musical appreciation to the next level. This entertaining event is great for all ages\, whether you are a seasoned concertgoer or new to orchestral music.
URL:https://menza.co.nz/event/tchaikovsky-the-nutcracker/
LOCATION:Auckland Town Hall\, Queen Street\, Auckland\, 1010\, New Zealand
ATTACH;FMTTYPE=image/jpeg:https://menza.co.nz/wp-content/uploads/2018/05/apo3.jpg
END:VEVENT
END:VCALENDAR