BEGIN:VCALENDAR
VERSION:2.0
PRODID:-//MENZA - ECPv6.15.20//NONSGML v1.0//EN
CALSCALE:GREGORIAN
METHOD:PUBLISH
X-ORIGINAL-URL:https://menza.co.nz
X-WR-CALDESC:Events for MENZA
REFRESH-INTERVAL;VALUE=DURATION:PT1H
X-Robots-Tag:noindex
X-PUBLISHED-TTL:PT1H
BEGIN:VTIMEZONE
TZID:UTC
BEGIN:STANDARD
TZOFFSETFROM:+0000
TZOFFSETTO:+0000
TZNAME:UTC
DTSTART:20180101T000000
END:STANDARD
END:VTIMEZONE
BEGIN:VEVENT
DTSTART;TZID=UTC:20190114T090000
DTEND;TZID=UTC:20190116T210000
DTSTAMP:20260422T073340
CREATED:20181118T142542Z
LAST-MODIFIED:20190116T082714Z
UID:165470-1547456400-1547672400@menza.co.nz
SUMMARY:NZ National Jazz Workshops
DESCRIPTION:Register now for the 2019 NZ National Jazz Workshops! \nTo register for the 2019 Student or Educator Jazz Workshops\, \nStudent registration: e-mail the following information to nzjazzworkshops@gmail.com \n\nYour name (student)\nPrimary e-mail address:\nInstrument(s):\nDate of birth:\nFull mailing Address:\nCurrent school and city/town:​\nBefore October 1: The fee for students is $210.00 for the 5 days.\nAfter October 1: The fee for students is $250.00 for the 5 days.\nPlease make an electronic transfer payment for the Workshop fees at the same time as the electronic registration. Your registration isn’t complete\, or your place secure\, without the payment. \n**Be sure to include your name with the bank transfer!**\n​\nBNZ – NZ Jazz Foundation – 02 0500 0906968 000 \nYou’ll receive a confirmation e-mail within a day or two. \n\nThe New Zealand Jazz Foundation provides exceptional musical experiences to young jazz musicians in New Zealand. The National Jazz Workshops bring New Zealand’s enthusiastic jazz students together with top jazz musicians and educators\, working on instrument techniques\, improvisation\, theory\, listening and ensemble performances. \nStudents 19 and under with at least one year of experience on an instrument\, are eligible.  \nFaculty for 2019 will include: Dave Lisik (coordinator\, theory\, improvisation)\, Rodger Fox (trombone and big band)\, Nick Granville (guitar)\, Lance Philip (drums) \nDirectors: Rodger Fox and Dr. David Lisik \nThe NZ Jazz Workshops will be held at the New Zealand School of Music\, Victoria University of Wellington.
URL:https://menza.co.nz/event/nz-national-jazz-workshops/
LOCATION:NZ School of Music\,  Gate 7\, Kelburn Parade\, Wellington\, New Zealand
CATEGORIES:National,Wellington
ORGANIZER;CN="David Lisik":MAILTO:nzjazzfoundation@gmail.com
END:VEVENT
END:VCALENDAR