BEGIN:VCALENDAR
VERSION:2.0
PRODID:-//MENZA - ECPv6.15.20//NONSGML v1.0//EN
CALSCALE:GREGORIAN
METHOD:PUBLISH
X-WR-CALNAME:MENZA
X-ORIGINAL-URL:https://menza.co.nz
X-WR-CALDESC:Events for MENZA
REFRESH-INTERVAL;VALUE=DURATION:PT1H
X-Robots-Tag:noindex
X-PUBLISHED-TTL:PT1H
BEGIN:VTIMEZONE
TZID:UTC
BEGIN:STANDARD
TZOFFSETFROM:+0000
TZOFFSETTO:+0000
TZNAME:UTC
DTSTART:20180101T000000
END:STANDARD
END:VTIMEZONE
BEGIN:VEVENT
DTSTART;VALUE=DATE:20190125
DTEND;VALUE=DATE:20190129
DTSTAMP:20260422T073122
CREATED:20180924T112832Z
LAST-MODIFIED:20190201T125129Z
UID:165406-1548374400-1548719999@menza.co.nz
SUMMARY:Choirs Aotearoa New Zealand's 1ST New Zealand Choral Academy
DESCRIPTION:Choirs Aotearoa New Zealand’s 1ST New Zealand Choral Academy\nSing and train alongside all three national choirs. \nDate: 25 – 28 January\, 2019 \nLocation: Auckland Diocesan School \nCost: $100-$120* per person \nFor more info and booking visit choirsnz.co.nz\n \nFor the first time choristers will have the chance to join a national academy of choral singing. Organised by Choirs Aotearoa New Zealand\, all three national choirs (NZ Secondary Students’ Choir\, NZ Youth Choir\, Voices NZ) will be in residence and keen singers from around the country can book their place to experience these choirs in action\, sit-in and sing with the choirs\, and have access to their professional artistic staff for workshops in musicianship\, vocal and conducting techniques. \nRegister for one of three groups: \nGroup S: age 13-17\, mirroring NZSSC\nGroup Y: age 18-25\, mirroring NZYC\nGroup V: Adults (age 25+) with a good choral skill level\, and a keen desire to advance their vocal and language skills. \n 
URL:https://menza.co.nz/event/choirs-aotearoa-new-zealands-1st-new-zealand-choral-academy/
LOCATION:Diocesan School for Girls\, Clyde St\, Epsom\, Auckland\, New Zealand
CATEGORIES:Auckland and Northland,National
ATTACH;FMTTYPE=image/png:https://menza.co.nz/wp-content/uploads/2018/09/Screen-Shot-2018-09-25-at-11.18.17-AM.png
END:VEVENT
END:VCALENDAR