BEGIN:VCALENDAR
VERSION:2.0
PRODID:-//MENZA - ECPv6.15.20//NONSGML v1.0//EN
CALSCALE:GREGORIAN
METHOD:PUBLISH
X-WR-CALNAME:MENZA
X-ORIGINAL-URL:https://menza.co.nz
X-WR-CALDESC:Events for MENZA
REFRESH-INTERVAL;VALUE=DURATION:PT1H
X-Robots-Tag:noindex
X-PUBLISHED-TTL:PT1H
BEGIN:VTIMEZONE
TZID:UTC
BEGIN:STANDARD
TZOFFSETFROM:+0000
TZOFFSETTO:+0000
TZNAME:UTC
DTSTART:20180101T000000
END:STANDARD
END:VTIMEZONE
BEGIN:VEVENT
DTSTART;TZID=UTC:20190309T083000
DTEND;TZID=UTC:20190309T153000
DTSTAMP:20260422T044420
CREATED:20190223T182729Z
LAST-MODIFIED:20190223T182748Z
UID:166053-1552120200-1552145400@menza.co.nz
SUMMARY:REAP / ONZA - Early Childhood Professional Development
DESCRIPTION:Early childhood PD\, Orff Music for EC educators. \nCreating music from small beginnings\, dancing\, ukulele\, Orff instruments\, rhythms with harakeke rakau with Christoph Maubach\, Clare Battersby & Peter Visser.
URL:https://menza.co.nz/event/orff-early-childhood-professional-development/
LOCATION:Kingston House\, 123 Hone Heke Road\, Kerikeri.
ATTACH;FMTTYPE=image/png:https://menza.co.nz/wp-content/uploads/2019/02/Screen-Shot-2019-02-24-at-8.00.28-PM-3.png
END:VEVENT
END:VCALENDAR