BEGIN:VCALENDAR
VERSION:2.0
PRODID:-//MENZA - ECPv6.15.20//NONSGML v1.0//EN
CALSCALE:GREGORIAN
METHOD:PUBLISH
X-ORIGINAL-URL:https://menza.co.nz
X-WR-CALDESC:Events for MENZA
REFRESH-INTERVAL;VALUE=DURATION:PT1H
X-Robots-Tag:noindex
X-PUBLISHED-TTL:PT1H
BEGIN:VTIMEZONE
TZID:UTC
BEGIN:STANDARD
TZOFFSETFROM:+0000
TZOFFSETTO:+0000
TZNAME:UTC
DTSTART:20180101T000000
END:STANDARD
END:VTIMEZONE
BEGIN:VTIMEZONE
TZID:Pacific/Auckland
BEGIN:STANDARD
TZOFFSETFROM:+1300
TZOFFSETTO:+1200
TZNAME:NZST
DTSTART:20180331T140000
END:STANDARD
BEGIN:DAYLIGHT
TZOFFSETFROM:+1200
TZOFFSETTO:+1300
TZNAME:NZDT
DTSTART:20180929T140000
END:DAYLIGHT
BEGIN:STANDARD
TZOFFSETFROM:+1300
TZOFFSETTO:+1200
TZNAME:NZST
DTSTART:20190406T140000
END:STANDARD
BEGIN:DAYLIGHT
TZOFFSETFROM:+1200
TZOFFSETTO:+1300
TZNAME:NZDT
DTSTART:20190928T140000
END:DAYLIGHT
BEGIN:STANDARD
TZOFFSETFROM:+1300
TZOFFSETTO:+1200
TZNAME:NZST
DTSTART:20200404T140000
END:STANDARD
BEGIN:DAYLIGHT
TZOFFSETFROM:+1200
TZOFFSETTO:+1300
TZNAME:NZDT
DTSTART:20200926T140000
END:DAYLIGHT
END:VTIMEZONE
BEGIN:VEVENT
DTSTART;VALUE=DATE:20190405
DTEND;VALUE=DATE:20190407
DTSTAMP:20260422T031947
CREATED:20190226T095802Z
LAST-MODIFIED:20190226T095827Z
UID:166083-1554422400-1554595199@menza.co.nz
SUMMARY:Musical Futures
DESCRIPTION:Following two very successful first Musical Futures workshop in 2017 and 2018 we are expanding our workshop program in 2019. An initial series of workshops will take place around Auckland near the end of Term 1 \nLong Bay College – April 5th and 6th\n​Waiuku College – April 8th \nMore locations and workshops will follow later in the year.\n​Who are the workshops for?\nPrimary music specialists and primary classroom teachers with a background in music\,\nSecondary music teachers\nTertiary music/education educators\nTertiary students studying music or music education \nWhy attend?\nMusical Futures believes music learning works best when young people are making music\, and when their existing passion for music is reflected and built-upon in the classroom. Musical Futures was established in 2003 and grounded in academic research\, is based on the real-world practices of popular and community musicians. \nMusical Futures supports teachers around the world with training\, networks and resources to deliver practical\, engaging\, developmental music programs in the classroom. Currently more than 1.5 million students in 71 countries worldwide benefit from their teachers use of the Musical Futures approach. The widespread adoption of Musical Futures in the UK and Australia means that it is now one of the most successful and sustainable music education initiatives in schools in those countries.
URL:https://menza.co.nz/event/musical-futures/
LOCATION:Long Bay College
ATTACH;FMTTYPE=image/png:https://menza.co.nz/wp-content/uploads/2019/02/Screen-Shot-2019-02-27-at-11.54.57-AM.png
END:VEVENT
BEGIN:VEVENT
DTSTART;TZID=Pacific/Auckland:20190405T170000
DTEND;TZID=Pacific/Auckland:20190405T183000
DTSTAMP:20260422T031947
CREATED:20190311T063737Z
LAST-MODIFIED:20190311T063737Z
UID:166128-1554483600-1554489000@menza.co.nz
SUMMARY:Developing Musical Skill
DESCRIPTION:A workshop for students\, parents and music teachers with highly acclaimed International music educator Michael Griffin.\nLearn about some top tips for how to really progress through quality practice and motivation!\nFor musical progress\, nothing is as important as the quality and the quantity of practice time. This inspiring interactive\, differentiated presentation will equip students\, teachers\, adult learners\, and parents with the methods and mindset required to maximise the prospect of learning music enjoyably and successfully. An international hit\, Michael Griffin’s Developing Musical Skill has enthralled and empowered audiences in 25 countries.
URL:https://menza.co.nz/event/developing-musical-skill/
LOCATION:Tūranga Central Library\, 60 Cathedral Square\, Christchurch Central\, Christchurch\, Canterbury\, 8011\, New Zealand
CATEGORIES:Canterbury
ATTACH;FMTTYPE=image/jpeg:https://menza.co.nz/wp-content/uploads/2019/03/948e59339e796e334560542e31b4bee3.jpg
END:VEVENT
END:VCALENDAR