BEGIN:VCALENDAR
VERSION:2.0
PRODID:-//MENZA - ECPv6.15.20//NONSGML v1.0//EN
CALSCALE:GREGORIAN
METHOD:PUBLISH
X-WR-CALNAME:MENZA
X-ORIGINAL-URL:https://menza.co.nz
X-WR-CALDESC:Events for MENZA
REFRESH-INTERVAL;VALUE=DURATION:PT1H
X-Robots-Tag:noindex
X-PUBLISHED-TTL:PT1H
BEGIN:VTIMEZONE
TZID:UTC
BEGIN:STANDARD
TZOFFSETFROM:+0000
TZOFFSETTO:+0000
TZNAME:UTC
DTSTART:20180101T000000
END:STANDARD
END:VTIMEZONE
BEGIN:VEVENT
DTSTART;TZID=UTC:20190409T160000
DTEND;TZID=UTC:20190409T173000
DTSTAMP:20260422T031856
CREATED:20190313T153810Z
LAST-MODIFIED:20190313T153810Z
UID:166154-1554825600-1554831000@menza.co.nz
SUMMARY:Dunedin Kiwileles' Songbook Event
DESCRIPTION:Tuesday\, April 9\, 2019 at 4 PM – 5:30 PM at St Clair School\, 135 Richardson Street\, Dunedin \nFree introduction to the 2019 Kiwileles’ Songbook. Strum and sing through this year’s repertoire with the team from NZ Ukulele and Music Education Otago.
URL:https://menza.co.nz/event/dunedin-kiwileles-songbook-event/
LOCATION:St Clair School\, 135 Richardson Street\, St Kilda\, Dunedin\, New Zealand
CATEGORIES:Otago
ATTACH;FMTTYPE=image/jpeg:https://menza.co.nz/wp-content/uploads/2019/03/Ukuleles-Kiwilele.jpg
ORGANIZER;CN="MEO":MAILTO:acaldwell@stclair.school.nz
END:VEVENT
END:VCALENDAR