BEGIN:VCALENDAR
VERSION:2.0
PRODID:-//MENZA - ECPv6.15.20//NONSGML v1.0//EN
CALSCALE:GREGORIAN
METHOD:PUBLISH
X-WR-CALNAME:MENZA
X-ORIGINAL-URL:https://menza.co.nz
X-WR-CALDESC:Events for MENZA
REFRESH-INTERVAL;VALUE=DURATION:PT1H
X-Robots-Tag:noindex
X-PUBLISHED-TTL:PT1H
BEGIN:VTIMEZONE
TZID:UTC
BEGIN:STANDARD
TZOFFSETFROM:+0000
TZOFFSETTO:+0000
TZNAME:UTC
DTSTART:20180101T000000
END:STANDARD
END:VTIMEZONE
BEGIN:VEVENT
DTSTART;TZID=UTC:20190412T080000
DTEND;TZID=UTC:20190415T170000
DTSTAMP:20260422T031856
CREATED:20190216T133355Z
LAST-MODIFIED:20190216T133355Z
UID:165928-1555056000-1555347600@menza.co.nz
SUMMARY:Kodály Music Pedagogy Training and  Kodály Kids
DESCRIPTION:Kodály Music Pedagogy Training\nand \nKodály Kids\ncourses in Hawke’s Bay\, 2019\n(1)Kodály Music Pedagogy Training:\nKodály Aotearoa and Project Prima Volta\, in conjunction with The Cuskelly College of Music\, offer the programme as a two-part intensive course\, allowing participants time to practise and complete assessment tasks between each block. Our tutors are amongst the best in their field internationally and have years of teaching this programme in Australia\, Asia\, New Zealand\, USA and Hungary. \nThere are options for Primary and Secondary teachers. Download the info booklet and registration form below for more information. \nDates:\nWeek 1: 12-18 April inclusive (7 days Friday to Thursday)  Week 2: 1-3 June inclusive (3 days Saturday to Monday) \nWeek 2: 1-3 June inclusive (3 days Saturday to Monday) \nVenue:  \nIona College\, 42 Lucknow Road\, Havelock North \n(2) Kodály Kids course:\nJoin us in April 2019 for the first ‘Kodály Kids’\, a four-day choir programme for children aged 8-13 years old. Participants will have the opportunity to play and sing their way through four days of music and fun. \nOption to be half-day or whole-day attendee. \nAs a participant in Kodály Kids\, singers will: \n\n\n\ndevelop new musical skills\nperform music from other languages and cultures\nmeet other children who love to sing\ngain confidence\nlearn to be part of a team\nenjoy new experiences\n\n\n\nDates:\nMonday 15 April – Thursday 18 April \n\n\n\nMegan Flint (Auckland\, New Zealand) \n\n\n\n\n\nMaree Hennessy (San Francisco\, USA) \n\n\n\n\n\nKate Thompson (Brisbane\, Australia)
URL:https://menza.co.nz/event/kodaly-music-pedagogy-training-and-kodaly-kids/
LOCATION:Iona College\, Lucknow Road\, Havelock North\, 4130\, New Zealand
CATEGORIES:Hawkes Bay and Gisborne,National
ATTACH;FMTTYPE=image/png:https://menza.co.nz/wp-content/uploads/2019/02/Screen-Shot-2019-02-17-at-3.31.59-PM.png
ORGANIZER;CN="Kodaly Aotearoa":MAILTO:meganjude@xtra.co.nz
END:VEVENT
BEGIN:VEVENT
DTSTART;VALUE=DATE:20190415
DTEND;VALUE=DATE:20190417
DTSTAMP:20260422T031856
CREATED:20181029T193016Z
LAST-MODIFIED:20181029T193016Z
UID:165446-1555286400-1555459199@menza.co.nz
SUMMARY:NZ Primary School Teachers' Conference
DESCRIPTION:This is the first year that the New Zealand Primary School Teachers’ Conference is to held and it proves to be an exciting event! \n The Conference Advisory Committee compiles of 11 subject associations\, all working collaboratively to produce this event. MENZA is proud to be part of this conference! \nABOUT THE CONFERENCE\n\n\nOn behalf of the New Zealand Primary School Teachers’ Conference Committee\, we warmly invite you to join us at the NZPSTC scheduled in Wellington from April 15th-16th 2019. \nWe are excited to host two days of learning\, collaboration\, networking and inspiration. This conference will provide an array of professional development opportunities for all Primary and Intermediate Teachers. With 11 different Subject Associations contributing their knowledge\, skills and expertise it is set to an amazing event. \nThis years’ theme is integrated learning and collaborative teaching in the 21st century. \nThe programme will include approximately 65 professional development workshops. These high quality workshops will be lead by some of New Zealand’s most inspiring\, forward-thinking teachers. There is also an outstanding line up of key note speakers and presenters who will motivate and challenge your thinking. \nAbstract and registrations are both OPEN! Go to http://nzptc.com \nLOCATION: Wellington (Venue TBC)\nCONFERENCE PROGRAMME\nMonday 15th April \n7.45am – 9.00am          Registration\n9.00am – 9.45am          Welcome and Mihi Whakatau – Housekeeping\n9.45am – 10.15am        Morning Tea\n10.15am – 11.00am      Keynote Speaker\n11.00am – 12.00am      #1 Workshop (1x 60 mins)\n12.00pm – 12.45pm     Lunch\n12.45pm – 1.30pm        #2 Workshop (1 x 45mins)\n1.35pm – 2.20pm          #3 Workshop (1x 45 mins)\n2.20pm – 2.45pm          Afternoon Tea\n2.45pm – 3.30pm          Collaborative sessions\n3.35pm – 4.35pm          #4 Workshop (x1 60 mins) \n6.00pm – late                 Cafe Crawl \nTuesday 16th April\n8.30am – 8.35am           Housekeeping and introduction of keynote\n8.35am – 9.25am           Keynote Speaker\n9.30am – 10.30am         #1 Workshop\n10.30am – 11.00am       Morning Tea\n11.00am – 12.00pm       #2 Workshop\n12.00pm – 1.00pm         Lunch\n1.00pm – 2.00pm           #3 Workshop\n2.00pm – 3.00pm           Collaborative sessions\n3.00pm – 3.20pm           Afternoon Tea\n3.20pm – 4.20pm           #4 Workshop\n4.25pm                           Wrap-up \n\n\n\n\nPrice\n\n\nEarly Bird Registration (ends 15th Feb 2019)\n$380\n\n\nStandard Registration (ends 1st Mar 2019)\n$450\n\n\nLate Registration (ends 15th Mar 2019)\n$590
URL:https://menza.co.nz/event/nz-primary-school-teachers-conference/
CATEGORIES:National,Wellington
ATTACH;FMTTYPE=image/png:https://menza.co.nz/wp-content/uploads/2018/10/NZPTC-logo.png
ORGANIZER;CN="Janna McLean":MAILTO:admin@penz.org.nz
END:VEVENT
END:VCALENDAR