BEGIN:VCALENDAR
VERSION:2.0
PRODID:-//MENZA - ECPv6.15.20//NONSGML v1.0//EN
CALSCALE:GREGORIAN
METHOD:PUBLISH
X-WR-CALNAME:MENZA
X-ORIGINAL-URL:https://menza.co.nz
X-WR-CALDESC:Events for MENZA
REFRESH-INTERVAL;VALUE=DURATION:PT1H
X-Robots-Tag:noindex
X-PUBLISHED-TTL:PT1H
BEGIN:VTIMEZONE
TZID:UTC
BEGIN:STANDARD
TZOFFSETFROM:+0000
TZOFFSETTO:+0000
TZNAME:UTC
DTSTART:20180101T000000
END:STANDARD
END:VTIMEZONE
BEGIN:VEVENT
DTSTART;TZID=UTC:20190417T090000
DTEND;TZID=UTC:20190417T144500
DTSTAMP:20260422T031836
CREATED:20190312T135006Z
LAST-MODIFIED:20190312T141955Z
UID:166142-1555491600-1555512300@menza.co.nz
SUMMARY:Wellington Music PLD
DESCRIPTION:MENZA presents a NETWORKS OF EXPERTISE WORKSHOP\nHoly Cross School\, Miramar\, Wellington\nREGISTER HERE TODAY \n  \n9am – 10:30 pm\nWorkshop 1 Ukulele with Maria Winder and Whaiora Hotere \nIntroduction to teaching music the NZ Ukulele way. Experience 90 minutes of fun\, engaging strategies for teaching with ukulele. This workshop is suitable for beginners and experienced ukulele teachers. \nMaria Winder and Whaiora Hotere are trustees of the New Zealand Ukulele Trust and manage the NZUT Kiwileles and Ukulele Squad music education programmes. \n  \n11:00 – 12: 30 pm\nOption of 2 Workshops: \nWorkshop 2a  with Tim Carson\nParticipants will use the online ‘Scratch’ coding platform to how explore how the elements of music can be expressed in code to create their own simple pieces of music.  Suitable for students from Year 5 – 8 and teachers of all music ability. \nTim Carson is a Year 5/6 teacher at Holy Cross School and former Director of Performing Arts at  Dilworth Junior Campus Auckland. \n  \nWorkshop 2B with Emma Chatterton\nThe Musical Toolbox: This workshop will give an introduction to the power of music as a learning tool in your classroom\, providing practical examples\, games and activities that can be easily implemented by classroom teachers or music specialists alike. \nEmma Chatterton is the Director of Chilton Preschool Music Centre and Music Teacher in the Primary and Secondary school\, formerly Assistant Director of Music at Saint Kentigern Boys’ School . \n12:30 to 1:15 pm \n1:15 to 2:45 pm \nWorkshop 3 Kiwilies Songbook Launch\nThe 2019 Kiwileles Songbook launch. Strum\, pluck and sing through 20 ukulele arrangements in the 2019 Kiwileles repertoire\, including a variety of Waiata\, Pasifika\, Kiwi Pop and other great music to enhance school singing. All Kiwileles’ arrangements include basic chords for beginners and more challenging strums\, riffs and instrumentals for experienced ukulele players  This session is FREE and we will share how you can join other Kiwileles Schools and be part of a series of kiwilele events including one in Wellington this year. \nPresented by: Maria Winder and Whaiora Hotere \n  \nPlease indicate on the registration form if you would like lunch. Click here to register. For more information email admin@menza.co.nz
URL:https://menza.co.nz/event/wellingtonprimary/
CATEGORIES:Wellington
END:VEVENT
END:VCALENDAR