BEGIN:VCALENDAR
VERSION:2.0
PRODID:-//MENZA - ECPv6.15.20//NONSGML v1.0//EN
CALSCALE:GREGORIAN
METHOD:PUBLISH
X-WR-CALNAME:MENZA
X-ORIGINAL-URL:https://menza.co.nz
X-WR-CALDESC:Events for MENZA
REFRESH-INTERVAL;VALUE=DURATION:PT1H
X-Robots-Tag:noindex
X-PUBLISHED-TTL:PT1H
BEGIN:VTIMEZONE
TZID:UTC
BEGIN:STANDARD
TZOFFSETFROM:+0000
TZOFFSETTO:+0000
TZNAME:UTC
DTSTART:20180101T000000
END:STANDARD
END:VTIMEZONE
BEGIN:VEVENT
DTSTART;TZID=UTC:20190517T080000
DTEND;TZID=UTC:20190517T160000
DTSTAMP:20260422T013243
CREATED:20190511T150636Z
LAST-MODIFIED:20190511T150706Z
UID:166264-1558080000-1558108800@menza.co.nz
SUMMARY:Teachers' Professional Development Day in Auckland with Dr Robert McWilliams
DESCRIPTION:Friday May 17th \n10am – 4pm\nVenue: East Auckland – Please Contact education@musicworks.co.nz for the specific location. \nTopics include: \n“Strategies and materials for convincing stakeholders on the value of instrumental music learning”\nThis session will cover effective strategies and materials that are persuasive for students\, parents\, administrators\, etc. to support recruitment and retention in instrumental learning. Exciting new developments in research to support this will be shared and identified. \n“Choosing and preparing repertoire that will be rewarding for all – players\, conductors\, and audience” \nThis session will address choosing repertoire that provides the optimum means for developing musicianship and expressive playing. Suggested repertoire and reasons for inclusion will be covered. Effective methods for preparing and studying repertoire will also be addressed including how to study and mark scores to be ready for effective rehearsals. \n“Rehearsal strategies that build musicianship skills and develop your ensemble faster!”\nThis session will explore rehearsal strategies that are focused on getting the players’ ears more involved in the process so that they hear the issues needing to be addressed and can generate solutions that will transfer to other aspects of their playing. This approach develops musicianship significantly faster when applied consistently and results in more cohesive ensemble playing. \nPlease bring your instrument as at the latter part of the day for a short time\, Dr Mc Williams will run a basic “teacher ensemble” to discuss some of the concepts in preparation for the Saturday clinic. This will be a very relaxed and fun session. \nThank you to YAMAHA\, MusicWorks & ABODA for providing this Professional development at no cost\, and a big thanks to West City Youth Concert Band for being our training band on Saturday. \nHow to Register your Interest and more details: \nPlease RSVP to education@musicworks.co.nz with the following: \nFull Name: \nSchool you are associated with: \nRole (HOD\, Ensemble Director\, Itinerant etc: \nInstrument (please indicate if you would likely bring on the day):
URL:https://menza.co.nz/event/teachers-professional-development-day-in-auckland-with-dr-robert-mcwilliams/
CATEGORIES:Auckland and Northland
ATTACH;FMTTYPE=image/jpeg:https://menza.co.nz/wp-content/uploads/2019/05/MusicWorks-Events-710x320.jpg
ORGANIZER;CN="Musicworks":MAILTO:education@musicworks.co.nz
END:VEVENT
BEGIN:VEVENT
DTSTART;TZID=UTC:20190517T083000
DTEND;TZID=UTC:20190517T162500
DTSTAMP:20260422T013243
CREATED:20190413T190238Z
LAST-MODIFIED:20190413T191951Z
UID:166198-1558081800-1558110300@menza.co.nz
SUMMARY:DAYTiME 2019 Melbourne
DESCRIPTION:Friday\, May 17\, 2019\n8:30 AM – 4:25 PM \nAmora Riverwalk Hotel Melbourne\n649 Bridge Rd\nRichmond\, Victoria 3121\nAustralia \nPresented by Music EDnet\, DAYTiME is an annual one-day professional development conference focusing on the effective integration of technology in music education. It offers a unique opportunity to hear from some of the most knowledgeable and experienced exponents of the use of technology in music education\, as well as some time to network with your peers and share ideas and resources. \nThe No.1 conference in the region\nfocusing on technology in music education. \nAs a music educator\, DAYTiME will help you to: \n\ngain understanding about existing and emerging technologies that can enhance music teaching practice and improve student engagement\nkeep informed about evolving pedagogical approaches and the relevant use of technology in meeting curriculum achievement standards\nremove intimidating barriers surrounding certain areas of music technology\nlearn from examples of best practice and develop strategies for more effective planning of appropriate resources within your school context\ngain inspiration to continue professional learning beyond the conference and expand opportunities for professional networking\n\nProfessional Development certificates are provided to all attendees following the conference.\n  \n\nCherie Herring – Columbia USA\nKeynote Speaker \nAn inspirational Keynote address to look forward to! \nWe are delighted to have Cherie Herring\, music teacher at Hammond Lower School in Columbia\, South Carolina USA\, presenting the Melbourne Keynote. Cherie’s use of technology in the classroom showcases how well technology can be used as a tool to reach every child in the music classroom. \nThe day’s program follows with a wide choice of sessions delivered by leading educators and industry experts\, from Australia and overseas. Sessions cover a range of relevant topics for delivering music in primary\, middle and secondary school including current and emerging pedagogical approaches as well as ever-evolving technologies and curricula. \nA day of professional learning\, highly regarded by hundreds of attendees annually …DAYTiME is a “must attend” event for all music educators. \nPlease see the website for details of workshop sessions and registration. \nMusicEdNet are offering a super special rate for NZ delegates as they did last year (NZ$150 +GST) and it’s an opportunity to take in some great PD\, do some networking and spend a weekend in OZ. All the details are available at www.daytime.co.nz.
URL:https://menza.co.nz/event/daytime-2019-melbourne/
LOCATION:Amora Riverwalk Hotel Melbourne\, 649 Bridge Rd\, Melbourne\, Victoria\, 3121\, Australia
CATEGORIES:International
ATTACH;FMTTYPE=image/png:https://menza.co.nz/wp-content/uploads/2019/04/Daytime-Melbourne-2019.png
ORGANIZER;CN="MusicEdNet":MAILTO:events@musicednet.com
END:VEVENT
END:VCALENDAR