BEGIN:VCALENDAR
VERSION:2.0
PRODID:-//MENZA - ECPv6.15.20//NONSGML v1.0//EN
CALSCALE:GREGORIAN
METHOD:PUBLISH
X-ORIGINAL-URL:https://menza.co.nz
X-WR-CALDESC:Events for MENZA
REFRESH-INTERVAL;VALUE=DURATION:PT1H
X-Robots-Tag:noindex
X-PUBLISHED-TTL:PT1H
BEGIN:VTIMEZONE
TZID:UTC
BEGIN:STANDARD
TZOFFSETFROM:+0000
TZOFFSETTO:+0000
TZNAME:UTC
DTSTART:20180101T000000
END:STANDARD
END:VTIMEZONE
BEGIN:VEVENT
DTSTART;TZID=UTC:20190526T170000
DTEND;TZID=UTC:20190526T193000
DTSTAMP:20260422T013403
CREATED:20190524T161237Z
LAST-MODIFIED:20190524T161237Z
UID:166337-1558890000-1558899000@menza.co.nz
SUMMARY:Bach Musica NZ: Beethoven & Perkins (world premiere)
DESCRIPTION:Witness the world premiere of the NZ composition The Birds and hear the stunning young winner of last year’s Wallace National Junior Piano Competition! \nLudwig van Beethoven – Piano Concerto No 2\nSingspiel “The Birds” by Andrew Perkins and Rachel Le Rossignol \nPRESENTED BY Bach Musica NZ orchestra and chorus \nRita Paczian conductor \nAshani Waidyatillake piano\nJessica Wells mezzo\nDilys Fong mezzo\nHarry Grigg tenor\nAngus Simmons baritone\nRachel Nightingale narrator \nPRE-CONCERT TALK WITH THE COMPOSER Andrew Perkins\n5pm – 5.20pm\nGreat Hall\, Auckland Town Hall\nFree entry with concert ticket\nNo registration needed \nTICKETS\n$30 – $70 general admission\n$15 – $55 under 16 and students with valid ID \nDiscounts & complimentary tickets for secondary schools\, youth and environmental organizations. Please contact Zarine for more information via zarine@bachmusica.com. \nTicketmaster New Zealand https://www.ticketmaster.co.nz/bmnz-beethoven-perkins-world-premiere-auckland-26-05-2019/event/2400565AFB3741F3 \n09 970 9700 | 0800 111 999 \nBooking fees apply.\nTickets also at the door but booking is strongly recommended. \nBox office open 3.30pm. \nwww.bachmusica.com\nwww.facebook.com/bachmusicanz\nwww.instagram.com/bachmusicanz
URL:https://menza.co.nz/event/bach-musica-nz-beethoven-perkins-world-premiere/
LOCATION:Auckland Town Hall\, Queen Street\, Auckland\, 1010\, New Zealand
CATEGORIES:Auckland and Northland
ATTACH;FMTTYPE=image/jpeg:https://menza.co.nz/wp-content/uploads/2019/05/BMNZ_Concert-2_Hero_Image_600x300px-1.jpg
END:VEVENT
BEGIN:VEVENT
DTSTART;TZID=UTC:20190526T170000
DTEND;TZID=UTC:20190526T200000
DTSTAMP:20260422T013403
CREATED:20190510T110632Z
LAST-MODIFIED:20190511T151108Z
UID:166239-1558890000-1558900800@menza.co.nz
SUMMARY:Bach Musica Concert
DESCRIPTION:Sunday 26 May 2019 at 5pm – Auckland Town Hall \nPre-concert talk with composer Andrew Perkins is 5pm – 5.20pm. \nConcert begins at 5:30pm (note change from originally published 5pm start time). \n$30-$70 (Children/students from $15) [Service fees will also apply] \nWe are pleased to offer discounts and a number of complimentary tickets for secondary schools\, youth and environmental organizations. Please contact us for further details. \nBeethoven Piano Concerto No. 2 \nAndrew Perkins Excerpts from Musical The Birds (World premiere) \nWitness the world premiere of the NZ composition “The Birds” and hear the stunning young winner of last year’s Wallace National Junior Piano Competition! \nRita Paczian Conductor\nAshani Waidyatillake Piano\nJessica Wells Mezzo Soprano\nDilys Fong Mezzo Soprano\nHarry Grigg Tenor\nAngus Simmons Baritone\nAndrew Perkins Narrator: Narrator \nTickets online form Auckland Live and Ticketmaster
URL:https://menza.co.nz/event/bach-musica-concert/
CATEGORIES:Auckland and Northland
ATTACH;FMTTYPE=image/jpeg:https://menza.co.nz/wp-content/uploads/2019/05/bach-musica-2019-auckland-live-1133w-x-628h-clean.jpg
END:VEVENT
END:VCALENDAR