BEGIN:VCALENDAR
VERSION:2.0
PRODID:-//MENZA - ECPv6.15.20//NONSGML v1.0//EN
CALSCALE:GREGORIAN
METHOD:PUBLISH
X-WR-CALNAME:MENZA
X-ORIGINAL-URL:https://menza.co.nz
X-WR-CALDESC:Events for MENZA
REFRESH-INTERVAL;VALUE=DURATION:PT1H
X-Robots-Tag:noindex
X-PUBLISHED-TTL:PT1H
BEGIN:VTIMEZONE
TZID:UTC
BEGIN:STANDARD
TZOFFSETFROM:+0000
TZOFFSETTO:+0000
TZNAME:UTC
DTSTART:20180101T000000
END:STANDARD
END:VTIMEZONE
BEGIN:VEVENT
DTSTART;TZID=UTC:20190624T160000
DTEND;TZID=UTC:20190624T173000
DTSTAMP:20260422T001536
CREATED:20190529T150825Z
LAST-MODIFIED:20190529T151039Z
UID:166415-1561392000-1561397400@menza.co.nz
SUMMARY:NZ Ukulele Trust – Teachers Workshop
DESCRIPTION:Holy Cross School\, Miramar\, Wellington\n\n\nThis workshop will introduce teaching tips for strumming and singing 2019 Kiwileles Songbook repertoire. This is a FREE workshop for Kiwilele schools and MENZA members. \nKiwileles is a fabulous resource that includes a wide variety of songs that are easy to teach to a range of ages and abilities. It is a fabulous way to bring music into your school and to connect with other schools to play in a Wellington concert planned for later in the year. \nClick here to register. \nFor more information about Kiwileles\, contact admin@nzukulele.org.nz
URL:https://menza.co.nz/event/nz-ukulele-trust-teachers-workshop-2/
LOCATION:Holy Cross School\, 2 Athens St \, Miramar\, Wellington\, 6022\, New Zealand
CATEGORIES:Wellington
ATTACH;FMTTYPE=image/png:https://menza.co.nz/wp-content/uploads/2019/05/NZUT-logo-square-hires.png
END:VEVENT
END:VCALENDAR