BEGIN:VCALENDAR
VERSION:2.0
PRODID:-//MENZA - ECPv6.15.20//NONSGML v1.0//EN
CALSCALE:GREGORIAN
METHOD:PUBLISH
X-ORIGINAL-URL:https://menza.co.nz
X-WR-CALDESC:Events for MENZA
REFRESH-INTERVAL;VALUE=DURATION:PT1H
X-Robots-Tag:noindex
X-PUBLISHED-TTL:PT1H
BEGIN:VTIMEZONE
TZID:UTC
BEGIN:STANDARD
TZOFFSETFROM:+0000
TZOFFSETTO:+0000
TZNAME:UTC
DTSTART:20180101T000000
END:STANDARD
END:VTIMEZONE
BEGIN:VEVENT
DTSTART;TZID=UTC:20190703T093000
DTEND;TZID=UTC:20190703T154500
DTSTAMP:20260421T230231
CREATED:20190629T120251Z
LAST-MODIFIED:20190629T120330Z
UID:166487-1562146200-1562168700@menza.co.nz
SUMMARY:Dr Bruce Pearson Professional Development Day
DESCRIPTION:We would like to invite you and your colleagues to this exciting day of professional development with world-renowned music educator\, author\, composer\, and clinician\, Dr Bruce Pearson. \nAt no cost to you or your school! \nWednesday        July 3rd\nVenue:                 Wellington College\nTime:                     9:30am – 4pm \nFor more information or any questions please RSVP with the following information to education@musicworks.co.nz. \nFull Name: \nSchool Associated With: \nPosition: \nTopics include: \n9:30 – 10:45 –  Session 1 \n“Matching Prospective Band Students to Instruments” \nOne of the most exciting and important events in the life of a prospective band student is selecting the instrument they are going to play.  There are many factors that influence a student’s decision.  This clinic will provide practical suggestions for the selection process\, with the goal of ensuring maximum success for both student and band. \n11:00 – 12:00 – Session 2  \n “Crafting a purposeful Warm-Up”  \nWith the help of a demo band\, Bruce Pearson will show how to develop a planned and purposeful warm up for your rehearsal. \n1:30 – 2:30 – Session 3  \n “Achieving Excellence in the Heterogeneous Band Class” \nTeaching beginning band can be exciting\, rewarding – and challenging – especially in a heterogeneous setting. In this clinic\, Dr. Pearson will share “best practices” for starting the heterogeneous band in their first lessons. \n2:45 – 3:45 – Session 4 \n“Conducting Clinic” \nWorking with a live ensemble in an interactive conducting session\, Bruce Pearson will engage the participants in the skills of conducting your school ensemble. \nAbout Dr Bruce Pearson \nBruce Pearson is a world-renowned music educator\, author\, composer\, and clinician. He is the author of the Standard of Excellence Comprehensive Band Method\, widely regarded as the most important contribution to the band music field in the last three decades\, as well as his first contribution\, Best In Class. His new contribution\, co-authored with Ryan Nowlin\, the Tradition of Excellence Comprehensive Band Method\, is a performance-centered curriculum that seamlessly blends time-tested and innovative pedagogy with cutting-edge technology.  He also co-authored\, with Dean Sorenson\, the Standard of Excellence Jazz Ensemble Method and the Standard of Excellence Advanced Jazz Ensemble Method. \nBruce Pearson grew up in Bloomington\, Minnesota. He has taught at the elementary\, junior high\, high school\, and college levels for over 40 years. . In December of 1998\, Dr Pearson was awarded the prestigious Midwest Clinic Medal of Honour in recognition of  his outstanding contributions to music education. In 2007\, he was the recipient of the Distinguished Alumni Award at St. Cloud State University. Also in 2007\, he was recognized as the first Patron for the Maryborough Conference in Queensland\, Australia. Dr Pearson was selected as a 2017 recipient of University of Northern Colorado’s Honoured Alumni Award. Additionally\, the American School Band Directors Association conferred on Dr Pearson the 2014 Edwin Franko Goldman Award “as a symbol of high esteem and respect for outstanding personal contributions to the school band movement.” He continues to serve as a guest lecturer\, clinician\, and conductor in addition to his work as a composer\, arranger\, and author. \nWe are excited to be able to have such a talented educator visit for a day of professional development in the Wellington region. \nREGISTRATION AND INFORMATION: \neducation@musicworks.co.nz \nRegister now to avoid disappointment! \nQuestions and enrolment for these Teachers Development days should be directed to: \neducation@musicworks.co.nz
URL:https://menza.co.nz/event/dr-bruce-pearson-professional-development-day/
LOCATION:Wellington College\, 15 Dufferin St\, Mount Victoria\, Wellington\, 6021\, New Zealand
CATEGORIES:Wellington
ATTACH;FMTTYPE=image/jpeg:https://menza.co.nz/wp-content/uploads/2019/05/MusicWorks-Events-710x320.jpg
ORGANIZER;CN="Musicworks":MAILTO:education@musicworks.co.nz
END:VEVENT
END:VCALENDAR