BEGIN:VCALENDAR
VERSION:2.0
PRODID:-//MENZA - ECPv6.15.20//NONSGML v1.0//EN
CALSCALE:GREGORIAN
METHOD:PUBLISH
X-ORIGINAL-URL:https://menza.co.nz
X-WR-CALDESC:Events for MENZA
REFRESH-INTERVAL;VALUE=DURATION:PT1H
X-Robots-Tag:noindex
X-PUBLISHED-TTL:PT1H
BEGIN:VTIMEZONE
TZID:UTC
BEGIN:STANDARD
TZOFFSETFROM:+0000
TZOFFSETTO:+0000
TZNAME:UTC
DTSTART:20180101T000000
END:STANDARD
END:VTIMEZONE
BEGIN:VEVENT
DTSTART;VALUE=DATE:20190706
DTEND;VALUE=DATE:20190709
DTSTAMP:20260421T230218
CREATED:20190517T212121Z
LAST-MODIFIED:20190517T212121Z
UID:166328-1562371200-1562630399@menza.co.nz
SUMMARY:New Beginnings songwriting workshop with Bic Runga
DESCRIPTION:Critically-acclaimed Kiwi songwriter\, musician\, vocalist and producer Bic Runga is returning to be in residence at The Arts Centre Te Matatiki Toi Ora in Ōtautahi Christchurch in July to lead an intensive songwriting workshop exploring all aspects of this creative process\, including lyric writing\, arranging\, and production. \nThis three-part workshop is aimed at emerging and semi-professional singer-songwriters. \nThe workshop will cover: \nDiscussion around what makes a good song.\nHow to musically improve songs including through song structure\, melodic hooks\, chord substitutions\, bass lines\, vocal harmony and more.\nTools for exploring and developing material including writing a new song over an existing chord structure.\nLyric writing.\nElements of creative practice\, including mental resolve\, decision making\, how to deal with writer’s block\, seeing a song through\, and industry opportunities.\nThe art of co-writing.\nThe production process.\nThe workshop is being held across three dates: \nSaturday 6 July 2019 – 10.00am to 5.00pm\nSunday 7 July 2019 – 10.00am to 5.00pm\nMonday 8 July 2019 – 6.00pm to 9.00pm \nThe workshop is limited to 20 people and participants need to be available for all sessions\, which will be held at The Arts Centre in central Christchurch. \nIt costs $225 per adult and $150 per student (aged 15 plus) and includes lunch and refreshments. If the cost is prohibitive\, please let The Arts Centre know when you apply as financial support may be available. \nTo apply\, send the following to hannahw@artscentre.org.nz by 3 June: \nA demo track (digital file\, link to website or ideas recorded with a smartphone app)\nYour artist CV\nInformation about why you want to be part of this workshop\nIf applicable\, a link to your website or artist Facebook page.\nAll applicants will be notified about the outcome of their applications by 10 June. \nNgā mihi\, \nHannah \nHannah Wilson | curator – programmes and events\nThe Arts Centre Te Matatiki Toi Ora\nTel (03) 366 0989 | DDI (03 3649720 | Mob 021 173 2309\nClock Tower\, 2 Worcester Boulevard\, Christchurch 8013\nPO Box 845\, Christchurch 8140\, New Zealand
URL:https://menza.co.nz/event/new-beginnings-songwriting-workshop-with-bic-runga/
LOCATION:Arts Centre\, Christchurch
CATEGORIES:Canterbury
ATTACH;FMTTYPE=image/png:https://menza.co.nz/wp-content/uploads/2019/05/Screen-Shot-2019-05-18-at-9.14.18-PM.png
END:VEVENT
BEGIN:VEVENT
DTSTART;VALUE=DATE:20190708
DTEND;VALUE=DATE:20190714
DTSTAMP:20260421T230218
CREATED:20190223T180945Z
LAST-MODIFIED:20190223T182854Z
UID:166046-1562544000-1563062399@menza.co.nz
SUMMARY:ONZA - Level 1 Hamilton (Winter Course)
DESCRIPTION:Monday July 8 to Saturday July 13 2019 \nVenue: The Music Suite\, St Pauls Collegiate\, 77 Hukanui Rd\, Chartwell\, Hamilton \nOrff New Zealand Aotearoa is offering this 6-day course in the Orff approach\, which is appropriate to the needs of both specialist and generalist teachers working in early childhood\, primary\, intermediate and lower secondary school settings. The Level 1 course is a hands-on\, experiential and gentle introduction to the practices and principles of the Orff approach. Participants in this course can achieve ONZA certification at Level 1. \nInquiries re the course: Dr Millie Locke \nTo download a course brochure click on the link. \nPlease note: ONZA offers a scholarship for this Level 1 6-day workshop. Click on the link to find out more. \nFees: \nMembers: $600\nNon-members: $640\nLate fees (after April 30\, 2019): \nMembers: $710\nNon-members: $750\nTo apply for or renew ONZA membership go to Membership page. \nTo register and pay for Level 1 \nRegister your name and details online HERE. Then\, use your own internet banking facility to make a direct deposit into the ONZA account at BNZ 02 0248 0073940 097 (Reference: Your surname; Code: L1UOW19). Entering your surname means you will be registered.\nPayment by credit card also available during registration.
URL:https://menza.co.nz/event/onza-level-1-hamilton-winter-course/
LOCATION:The Music Suite\, St Pauls Collegiate\, 77 Hukanui Rd\, Chartwell\, Hamilton
ATTACH;FMTTYPE=image/png:https://menza.co.nz/wp-content/uploads/2019/02/Screen-Shot-2019-02-24-at-8.00.28-PM-2.png
END:VEVENT
BEGIN:VEVENT
DTSTART;VALUE=DATE:20190708
DTEND;VALUE=DATE:20190714
DTSTAMP:20260421T230218
CREATED:20190223T182120Z
LAST-MODIFIED:20190223T182834Z
UID:166051-1562544000-1563062399@menza.co.nz
SUMMARY:ONZA - Level 2 Hamilton (Winter Course)
DESCRIPTION:Orff New Zealand Aotearoa is offering this 6-day course in the Orff approach appropriate to the needs of both specialist and generalist teachers working in early childhood\, primary\, intermediate and lower secondary school settings. The Level 2 course builds on the skill-set introduced in the Level 1 course and is open to anyone who has completed this course. Participants in this course can achieve ONZA certification at Level 2. \nInquiries re the course and accommodation at the venue: Dr Millie Locke \nTo download a course brochure click on the link. \nPlease note: ONZA offers a scholarship for this Level 1 6-day workshop.   Click on the link to find out more. \nFees: \n\nMembers: $600\nNon-members: $640\n\nLate fees (after April 30\, 2019): \n\nMembers: $710\nNon-members: $750\n\nTo apply for or renew ONZA membership go to Membership page. \nTo register and pay: Level 2 \nRegister your name and details online HERE. Then\, use you own internet banking facility to make a direct deposit into the ONZA account at BNZ 02 0248 0073940 097 (Reference: Your surname; Code: L2UOW19). Entering your surname means you will be registered.
URL:https://menza.co.nz/event/orff-level-2-hamilton-winter-course/
LOCATION:The Music Suite\, St Pauls Collegiate\, 77 Hukanui Rd\, Chartwell\, Hamilton
END:VEVENT
END:VCALENDAR