BEGIN:VCALENDAR
VERSION:2.0
PRODID:-//MENZA - ECPv6.15.20//NONSGML v1.0//EN
CALSCALE:GREGORIAN
METHOD:PUBLISH
X-WR-CALNAME:MENZA
X-ORIGINAL-URL:https://menza.co.nz
X-WR-CALDESC:Events for MENZA
REFRESH-INTERVAL;VALUE=DURATION:PT1H
X-Robots-Tag:noindex
X-PUBLISHED-TTL:PT1H
BEGIN:VTIMEZONE
TZID:UTC
BEGIN:STANDARD
TZOFFSETFROM:+0000
TZOFFSETTO:+0000
TZNAME:UTC
DTSTART:20180101T000000
END:STANDARD
END:VTIMEZONE
BEGIN:VEVENT
DTSTART;TZID=UTC:20190727T090000
DTEND;TZID=UTC:20190727T150000
DTSTAMP:20260421T230057
CREATED:20190619T123042Z
LAST-MODIFIED:20190619T132109Z
UID:166450-1564218000-1564239600@menza.co.nz
SUMMARY:MENZA Southland PLD Day - ECE and Primary
DESCRIPTION:MENZA presents a NETWORKS OF EXPERTISE WORKSHOP\nSouthern Institute of Technology\, Downtown Campus\, Don St  Invercargill\,\nFREE for MENZA Members and beginner Teachers / Teacher trainees\, or $30 for non-members (includes 12mth MENZA Subscription).\nCLICK HERE to register. \n  \n9am – Welcome\n\n9:10 – 10:30 Workshop 1: The Principles of Music Outreach: An introduction to the application of the Music Outreach and Engagement Program in New Zealand. The Music Outreach and Engagement Program has a 25 year history\, and has been developing in New Zealand since 2015. The aim of this workshop is to explain and demonstrate the guiding principle of the MOEP: The Music Outreach Principle. It will involve both theoretical ideas and practical applications and is suitable for everyone. No musical skill or knowledge is required\, although musicians and music educators will find it of use. \n  \n10:30 – 11:00 Morning tea provided \n  \n11:00 – 12:30 Choose from two workshops:\nWorkshop 2A: Music Outreach and literacy – Dr Susan West \nIn this workshop\, the principles of Music Outreach will be demonstrated with regard to language literacy through the use of two musical collections that embody these principles. The first encompasses the concept of the ‘lilt’ where poetry is ‘nudged’ into music with simple melodies reminiscent of the lullaby. The second is a complex set of alliterative alphabet poems set to music which have been enthusiastically learned and performed by children as young as 4.  \n WORKSHOP 2B: Springboards \nWhere do I start? – how do I build a music programme? This will be a hands on workshop for teachers of 0 to 8 year olds and includes: singing\, listening\, playing\, moving and creating. Lots of practical ideas to take away and use in your centres and schools.\nDeb Ferrier-Kerr has been teaching music to children for over 25 years. She works as Kaiarahi for Music Education\, she is a Registered Music Teacher -Early Childhood\, teachers music in schools and teachers a year 3-4 class at Miramar North School in Wellington. \n  \n1:15 – 2:45 Music Outreach and Physical Education (dance)- Dr Susan West \nThis workshop brings together Music Outreach with singing and moving through a range of song-dances of varying levels of difficulty that can be used as part of physical education. The combination of singing and dancing has a range of health benefits and also helps teachers include more music in the ‘crowded curriculum.’ The songs can be varied to include different ages and skill levels and recorded instrumental tracks are also provided that can accompany the dances as well.  \n  \n 
URL:https://menza.co.nz/event/southland-ece-primary/
LOCATION:SIT Downtown Campus\, 25 Don St\, Invercargill\, New Zealand
CATEGORIES:Southland
ATTACH;FMTTYPE=image/jpeg:https://menza.co.nz/wp-content/uploads/2019/06/Downtown-campus.jpg
END:VEVENT
BEGIN:VEVENT
DTSTART;TZID=UTC:20190727T100000
DTEND;TZID=UTC:20190727T120000
DTSTAMP:20260421T230057
CREATED:20190522T212148Z
LAST-MODIFIED:20190619T134814Z
UID:166390-1564221600-1564228800@menza.co.nz
SUMMARY:Chinese culture and songs in Primary School Music with Edith Poon-Lai
DESCRIPTION:Sector: Primary\nLocation: Kristin School – 360 Albany Highway\, Albany\, Auckland\nCost: Free for MENZA members\, first year teachers and those currently enrolled in an education degree\, or $30 for non-members.\nRegister here today \n  \nThis workshop explores traditional and modern Chinese songs with the focus on enriching the musical experience of your students with appropriate vocal techniques\, affirming the culture of your Chinese students\, or introducing Chinese culture to your Music class. No experience of Chinese learning is required. Youtube links and teaching notes of the songs and games will be provided. Each Chinese song will be analysed and demonstrated in a musical way. Participants can directly apply their learning into their programme. \n  \nEdith teaches Chinese and Performing Arts to 4-11 year olds at Kristin School\, Auckland. She is trained in Music Education (M Ed) and teaching Chinese to students speaking other languages (Sp Cert in Chi Tchg) and  has taught in New Zealand for 20 years. \n 
URL:https://menza.co.nz/event/chinese-culture-and-songs-in-primary-school-music-with-edith-poon-lai/
LOCATION:Kristin School\, 360 Albany Highway\, Albanu\, Auckland\, 0632
END:VEVENT
END:VCALENDAR