BEGIN:VCALENDAR
VERSION:2.0
PRODID:-//MENZA - ECPv6.15.20//NONSGML v1.0//EN
CALSCALE:GREGORIAN
METHOD:PUBLISH
X-WR-CALNAME:MENZA
X-ORIGINAL-URL:https://menza.co.nz
X-WR-CALDESC:Events for MENZA
REFRESH-INTERVAL;VALUE=DURATION:PT1H
X-Robots-Tag:noindex
X-PUBLISHED-TTL:PT1H
BEGIN:VTIMEZONE
TZID:UTC
BEGIN:STANDARD
TZOFFSETFROM:+0000
TZOFFSETTO:+0000
TZNAME:UTC
DTSTART:20180101T000000
END:STANDARD
END:VTIMEZONE
BEGIN:VEVENT
DTSTART;TZID=UTC:20190816T090000
DTEND;TZID=UTC:20190818T160000
DTSTAMP:20260421T214233
CREATED:20190409T094906Z
LAST-MODIFIED:20190409T094906Z
UID:166190-1565946000-1566144000@menza.co.nz
SUMMARY:Wellington Band and Orchestra Festival
DESCRIPTION:This year WeBO will be giving you even more opportunities to play in and around Wellington. \nThis year once you have registered you will be given an opportunity to perform at “Pop Up” venues around Wellington city\, in cafe’s for small ensembles and on Friday at local Wellington schools! All this plus workshops and clinics! \nFriday\, August 16 – Jazz Ensembles\nSaturday\, August 17 – Concert and Brass Bands\nSunday\, August 18 – Orchestra\, School Ensembles and Small Ensembles \nRegister here: http://webo.co.nz/registration/
URL:https://menza.co.nz/event/wellington-band-and-orchestra-festival/
CATEGORIES:National,Wellington
ATTACH;FMTTYPE=image/jpeg:https://menza.co.nz/wp-content/uploads/2019/04/56328725_2131674740284797_8664956220278308864_o.jpg
END:VEVENT
BEGIN:VEVENT
DTSTART;TZID=UTC:20190817T123000
DTEND;TZID=UTC:20190817T180000
DTSTAMP:20260421T214233
CREATED:20190510T112608Z
LAST-MODIFIED:20190510T112608Z
UID:166252-1566045000-1566064800@menza.co.nz
SUMMARY:Bach Musica Singing Workshop
DESCRIPTION:Saturday 17 Aug 2019 (12:30pm-6pm)\nLocation: Somervell Presbyterian Church\, 497 Remuera Rd\, Remuera\nRepertoire: Fauré Requiem \nLearn and brush up essential singing techniques and improve your sound\, both as a chorister and as a soloist. Enjoy blending your sound with your neighbour and the whole choir. Improve your sight-reading\, have fun and learn the beautiful Fauré Requiem from scratch or revisit it again. The music is sublime and this workshop offers you an exciting opportunity to sing alongside members of the highly acclaimed chorus of Bach Musica NZ. \n$50 Adults\n$30 Observers (hand-outs included)\n$30 Children under 18 & students \nDownload information sheet\nRegister now
URL:https://menza.co.nz/event/bach-musica-singing-workshop/
LOCATION:Somervell Presbyterian Church\, 497 Remuera Rd\, Remuera\, Auckland\, New Zealand\, Auckland\, 1050\, New Zealand
END:VEVENT
END:VCALENDAR