BEGIN:VCALENDAR
VERSION:2.0
PRODID:-//MENZA - ECPv6.15.20//NONSGML v1.0//EN
CALSCALE:GREGORIAN
METHOD:PUBLISH
X-ORIGINAL-URL:https://menza.co.nz
X-WR-CALDESC:Events for MENZA
REFRESH-INTERVAL;VALUE=DURATION:PT1H
X-Robots-Tag:noindex
X-PUBLISHED-TTL:PT1H
BEGIN:VTIMEZONE
TZID:UTC
BEGIN:STANDARD
TZOFFSETFROM:+0000
TZOFFSETTO:+0000
TZNAME:UTC
DTSTART:20180101T000000
END:STANDARD
END:VTIMEZONE
BEGIN:VEVENT
DTSTART;VALUE=DATE:20190831
DTEND;VALUE=DATE:20190901
DTSTAMP:20260421T202829
CREATED:20190223T183458Z
LAST-MODIFIED:20190223T183732Z
UID:166068-1567209600-1567295999@menza.co.nz
SUMMARY:ONZA Marimba Festival: Songs from Ranginui
DESCRIPTION:The ONZA Marimba Festival will be conducted in Auckland and Tauranga this year in term 3 and 4 respectively. Teachers whose students participate in these events will have the opportunity to attend inspiring professional development\, free of charge\, once per term\, to play through an exciting repertoire fully adaptable to suit their music curriculum goals. On the day of the festival itself\, hundreds of students rehearse and perform the set in a mass celebration of music education. \nif you are interested in this exciting event\, you should contact Philippa Drake or Jeremy Hantler. \nAs with recent events\, the Auckland Marimba Festival will take place in the ASB Stadium in Kohimarama. The 2019 date is Saturday\, August 31. To register your school or organisation for this wonderful event click on the Auckland Registration Form. \nPlaythrough Dates:\nSaturday 2 March 2.00 – 4.00 Wairau Intermediate – (recording all pieces)\nSaturday 18 May 2.00 – 4.00 Wairau Intermediate\nSaturday 3  August 2.00 – 4.00 Venue to be confirmed.\nThe Tauranga Marimba Festival   2019   TBA \nTo get a taste of the 2015 occasion\, click on Marimba Festival Youtube clip\, or visit the ONZA  Media pageto view a range of thrilling videos based around the 2016 festival.
URL:https://menza.co.nz/event/onza-marimba-festival-songs-from-ranginui/
LOCATION:ASB Stadium in Kohimarama
END:VEVENT
BEGIN:VEVENT
DTSTART;TZID=UTC:20190831T100000
DTEND;TZID=UTC:20190831T130000
DTSTAMP:20260421T202829
CREATED:20190822T084429Z
LAST-MODIFIED:20190822T084429Z
UID:166601-1567245600-1567256400@menza.co.nz
SUMMARY:Wānanga Puoro
DESCRIPTION:  \nWhat: Wānanga Puoro with Makaira Waugh\nWhen: August 31 @ 10:00 am – 1:00 pm\nSector: Primary / Intermediate\nWhere: Te Kura Kaupapa Māori of Te Wānaga Whare Tapere o Takitimu\, Heretaunga\nCost: Free for kura and schools with a MENZA membership\, first year teachers and those currently enrolled in an education degree\, or $30 plus GST for non-members.\nREGISTER HERE TODAY \nMusic and dance hold great potential for learning\, expression and empowerment for our tamariki\, but often kaiako feel they don’t have the skills\, methods or time to teach these subjects. \nAs music specialist kaiako at Te Ara Whānui Kura Kaupapa Māori o ngā Kōhanga Reo o Te Awakairangi I have experienced wonderful success in creating avenues for our ākonga to express themselves through music and dance\, resulting in powerful learning and personal growth. Hauora is a key component of this mahi\, as students learn how to manage their oranga hinengaro\, wairua & whānau to explore and sustain their creativity. \nI am passionate about sharing these teaching approaches with other kaiako so that more of our tamariki can access the benefits of child-centred music education\, and I am organising PD workshops for kaiako in 2019. These are open to any kaiako who are interested in bringing more music and movement into their classroom\, regardless of prior knowledge. They are hands-on\, interactive papamahi delivered in te reo and tikanga Māori where kaiako can: \nPick up a range of practical activities for exploring music in the classroom\nExperience ways to incorporate creative dance into a kaupapa\nUse the power of language to bring it alive through music\nCreate your own musical conversation using percussion instruments \nFor more about this work please check out the Te Ara Whānui sound garden blog.
URL:https://menza.co.nz/event/wananga-puoro-2/
LOCATION:Te Kura Kaupapa Māori o Te Rito\, 29 Te Rauparaha St\, Ōtaki\, New Zealand
CATEGORIES:Wellington
ATTACH;FMTTYPE=image/jpeg:https://menza.co.nz/wp-content/uploads/2019/08/Pakakau-whero.jpg
ORGANIZER;CN="Makaira Waugh":MAILTO:sweetcardamom@gmail.com
END:VEVENT
BEGIN:VEVENT
DTSTART;TZID=UTC:20190831T123000
DTEND;TZID=UTC:20190831T180000
DTSTAMP:20260421T202829
CREATED:20190510T112923Z
LAST-MODIFIED:20190510T112947Z
UID:166254-1567254600-1567274400@menza.co.nz
SUMMARY:Bach Musica Sight-reading Workshop
DESCRIPTION:Sight-Reading Workshop\nSaturday 31 Aug 2019 (12:30pm-6pm)\nLocation: Somervell Presbyterian Church\, 497 Remuera Rd\, Remuera \nWhether you are a member of a choir\, a singer or instrumentalist preparing for the sight-reading tests in grade exams or you simply enjoy singing with friends\, the ability to sight-read with confidence and accuracy is a most important musical skill. Our workshop offers a progressive series of enjoyable and stimulating stages which will rapidly improve your reading ability. Musicians of all levels and ages welcome! \n$50 Adults \n$30 Observers (hand-outs included) \n$30 Children under 18 & students \nDownload information sheet\nRegister now
URL:https://menza.co.nz/event/bach-musica-sight-reading-workshop/
LOCATION:Somervell Presbyterian Church\, 497 Remuera Rd\, Remuera\, Auckland\, New Zealand\, Auckland\, 1050\, New Zealand
END:VEVENT
END:VCALENDAR