BEGIN:VCALENDAR
VERSION:2.0
PRODID:-//MENZA - ECPv6.15.20//NONSGML v1.0//EN
CALSCALE:GREGORIAN
METHOD:PUBLISH
X-ORIGINAL-URL:https://menza.co.nz
X-WR-CALDESC:Events for MENZA
REFRESH-INTERVAL;VALUE=DURATION:PT1H
X-Robots-Tag:noindex
X-PUBLISHED-TTL:PT1H
BEGIN:VTIMEZONE
TZID:UTC
BEGIN:STANDARD
TZOFFSETFROM:+0000
TZOFFSETTO:+0000
TZNAME:UTC
DTSTART:20180101T000000
END:STANDARD
END:VTIMEZONE
BEGIN:VEVENT
DTSTART;TZID=UTC:20191201T170000
DTEND;TZID=UTC:20191201T193000
DTSTAMP:20260421T175559
CREATED:20190510T111757Z
LAST-MODIFIED:20190511T150456Z
UID:166244-1575219600-1575228600@menza.co.nz
SUMMARY:Bach Musica Concert
DESCRIPTION:Sunday 1 December 2019 at 5pm – Auckland Town Hall \n$30-$70 (Children/students from $15) [Service fees will also apply] \nVivaldi Gloria \nBach Concerto for Oboe and Violin \nDvorak Te Deum \nBaroque Treasures & Romantic Fanfare: All three pieces are true classical highlights\, thanks to their huge popularity all over the world. Live they are even better! \nRita Paczian Conductor\nMorag Atchison Soprano\nEmma Roxburgh Soprano\nKate Spence Alto\nMartin Snell Bass\nYanghe Yu Violin\nAlison Dunlop Oboe \nTickets online form Auckland Live and Ticketmaster
URL:https://menza.co.nz/event/bach-musica-concert-3/
CATEGORIES:Auckland and Northland
ATTACH;FMTTYPE=image/jpeg:https://menza.co.nz/wp-content/uploads/2019/05/bach-musica-2019-auckland-live-1133w-x-628h-clean.jpg
END:VEVENT
END:VCALENDAR