BEGIN:VCALENDAR
VERSION:2.0
PRODID:-//MENZA - ECPv6.15.20//NONSGML v1.0//EN
CALSCALE:GREGORIAN
METHOD:PUBLISH
X-WR-CALNAME:MENZA
X-ORIGINAL-URL:https://menza.co.nz
X-WR-CALDESC:Events for MENZA
REFRESH-INTERVAL;VALUE=DURATION:PT1H
X-Robots-Tag:noindex
X-PUBLISHED-TTL:PT1H
BEGIN:VTIMEZONE
TZID:UTC
BEGIN:STANDARD
TZOFFSETFROM:+0000
TZOFFSETTO:+0000
TZNAME:UTC
DTSTART:20190101T000000
END:STANDARD
END:VTIMEZONE
BEGIN:VEVENT
DTSTART;TZID=UTC:20200408T100000
DTEND;TZID=UTC:20200408T103000
DTSTAMP:20260421T111620
CREATED:20200405T151826Z
LAST-MODIFIED:20200405T151826Z
UID:167262-1586340000-1586341800@menza.co.nz
SUMMARY:What's your plan for next week?
DESCRIPTION:Term 2 officially starts next week and do you know what you’re doing? \nJoin Martin Emo for a 30min workshop and take a step back to think about what you’ve got planned. Hear his tips and advice for managing teaching in an online environment. \nFrom a holistic perspective\, this livestream workshop is focused on supporting you to prepare\, plan and teach music online in New Zealand. \nTopics include\n– Content advice.\n– Delivery advice and tips.\n– Online digital tools. \nSpecific tools/software will be covered\, but more in-depth workshops are planned for later livestream workshops. Eg for Soundtrap. \nTo attend\, just join the Music Education New Zealand Aotearoa Group page and the livestream will begin at 9:58 am. Just refresh the page until it pops up! \nIf you watch it\, please take 2mins to fill out this survey for our reporting requirements to the Ministry of Education. http://www.bit.ly/menzaevaluation \nAt the end of the workshop\, the video will be removed from facebook and uploaded\, available along with the digital handout in the MENZA member area on https://menza.co.nz/resources \nThis workshop is in response to requests via the workshop request form. Request your topic here https://forms.gle/NZXoVgktfzdYG7dx9
URL:https://menza.co.nz/event/whats-your-plan-for-next-week/
ATTACH;FMTTYPE=image/jpeg:https://menza.co.nz/wp-content/uploads/2020/04/ASDFASDFASDF.jpg
END:VEVENT
BEGIN:VEVENT
DTSTART;TZID=UTC:20200408T120000
DTEND;TZID=UTC:20200408T130000
DTSTAMP:20260421T111620
CREATED:20200407T082456Z
LAST-MODIFIED:20200407T082804Z
UID:167273-1586347200-1586350800@menza.co.nz
SUMMARY:Online Teaching Tips for Studio Instrumental Teachers
DESCRIPTION:New to teaching music lessons online? Wondering how to get started and what equipment you need? In this FREE webinar\, we will go through everything you need\, step-by-step.
URL:https://menza.co.nz/event/online-teaching-tips-for-studio-instrumental-teachers/
ATTACH;FMTTYPE=image/png:https://menza.co.nz/wp-content/uploads/2020/04/Screen-Shot-2020-04-08-at-8.14.22-AM.png
END:VEVENT
END:VCALENDAR