BEGIN:VCALENDAR
VERSION:2.0
PRODID:-//MENZA - ECPv6.15.20//NONSGML v1.0//EN
CALSCALE:GREGORIAN
METHOD:PUBLISH
X-ORIGINAL-URL:https://menza.co.nz
X-WR-CALDESC:Events for MENZA
REFRESH-INTERVAL;VALUE=DURATION:PT1H
X-Robots-Tag:noindex
X-PUBLISHED-TTL:PT1H
BEGIN:VTIMEZONE
TZID:UTC
BEGIN:STANDARD
TZOFFSETFROM:+0000
TZOFFSETTO:+0000
TZNAME:UTC
DTSTART:20190101T000000
END:STANDARD
END:VTIMEZONE
BEGIN:VEVENT
DTSTART;TZID=UTC:20200415T100000
DTEND;TZID=UTC:20200415T103000
DTSTAMP:20260421T112547
CREATED:20200408T151742Z
LAST-MODIFIED:20200408T151742Z
UID:167283-1586944800-1586946600@menza.co.nz
SUMMARY:Music Tech and Tools 101
DESCRIPTION:Join Martin Emo\, Menza Digital Kaiārahi\, on Wed 15th April \n\nFor a 30min workshop will cover the following. \n\n\n \n\n\n– Sound. Including what Microphones to use\, what external Sound cards to use\, improving your audio\, and your student’s audio; \n\n\n– Using keyboards\, pianos and pad controllers\n\n\n– Hearing and miking other Acoustic and Electric instruments for use online. \n\n\n– Recording. Including Pros and Cons of different DAWs (and why!)\n\n\n– Online Tools. A variety of online tools and software will be covered including how you and your students can make videos. \n\n\n \n\n\nThe session will end with a Q and A. Questions will also be answer during the chatroll below the facebook livestream. \n\n\n \n\n\nTo attend\, just join the Music Education New Zealand Aotearoa Group page and the livestream will begin at 9:58 am. Just refresh the page until it pops up!\n\n\n \n\n\nIf you watch it\, please take 2mins to fill out this survey for our reporting requirements to the Ministry of Education. http://www.bit.ly/menzaevaluation\n\n\n \n\n\nAt the end of the workshop\, the video will be removed from facebook and uploaded\, available along with the digital handout in the MENZA member area on https://menza.co.nz/resources\n\n\n \n\n\nThis workshop is in response to requests via the workshop request form. Request your topic here https://forms.gle/NZXoVgktfzdYG7dx9
URL:https://menza.co.nz/event/music-tech-and-tools-101/
CATEGORIES:National
ATTACH;FMTTYPE=image/png:https://menza.co.nz/wp-content/uploads/2020/04/Screen-Shot-2020-04-09-at-3.10.48-PM.png
END:VEVENT
BEGIN:VEVENT
DTSTART;TZID=UTC:20200415T120000
DTEND;TZID=UTC:20200415T130000
DTSTAMP:20260421T112547
CREATED:20200413T131411Z
LAST-MODIFIED:20200413T131411Z
UID:167327-1586952000-1586955600@menza.co.nz
SUMMARY:Flipgrid for music teachers step-by-step - Free webinar
DESCRIPTION:About this free webinar\n\n\n\n\n\n\n\n\n\n\n\n\nHey! I’m Katie Wardrobe – an Australian digital learning coach for music teachers. \nFlipgrid is an awesome free tech tool that allows you to easily collect video responses from students and there are lots of neat tips\, techniques and innovative ideas for using it with music students. \nIn this webinar\, we’ll cover the following: \n\nHow to get started with Flipgrid\nSettings and options for your Grids and Topics\nHow to use Flipgrid for playing assessments\nTips for recording videos in short segments\nHow students can sing or play to a backing track\nHow to create “whiteboard” videos that show drawing on the screen\nHow to run your own talent show\nHow to record your screen to make teaching videos\nWays to encourage camera-shy students\nHow to create a follow-the-bouncing-ball lyric video\nHow to create captions\nAnd more!\n\nThere will be a Q&A session at the end for any teachers attending the live session.  You will also receive useful links\, resources and a professional development certificate for your attendance. \nPLEASE NOTE: this webinar will be recorded. If you can’t attend the live session\, sign up anyway using the registration link and we will send you access to the replay 24 hours after the session takes place. \n\n\nStep 1: Enter your details at https://midnightmusic.com.au/flipgrid-signup/.\nStep 2: Katie will email you the link to join the webinar!
URL:https://menza.co.nz/event/flipgrid-for-music-teachers-step-by-step-free-webinar/
ATTACH;FMTTYPE=image/png:https://menza.co.nz/wp-content/uploads/2020/04/Flipgrid-Webinar.png
END:VEVENT
END:VCALENDAR