BEGIN:VCALENDAR
VERSION:2.0
PRODID:-//MENZA - ECPv6.15.20//NONSGML v1.0//EN
CALSCALE:GREGORIAN
METHOD:PUBLISH
X-WR-CALNAME:MENZA
X-ORIGINAL-URL:https://menza.co.nz
X-WR-CALDESC:Events for MENZA
REFRESH-INTERVAL;VALUE=DURATION:PT1H
X-Robots-Tag:noindex
X-PUBLISHED-TTL:PT1H
BEGIN:VTIMEZONE
TZID:UTC
BEGIN:STANDARD
TZOFFSETFROM:+0000
TZOFFSETTO:+0000
TZNAME:UTC
DTSTART:20190101T000000
END:STANDARD
END:VTIMEZONE
BEGIN:VEVENT
DTSTART;TZID=UTC:20200515T153000
DTEND;TZID=UTC:20200515T160000
DTSTAMP:20260421T122607
CREATED:20200505T120854Z
LAST-MODIFIED:20200505T120854Z
UID:167436-1589556600-1589558400@menza.co.nz
SUMMARY:Friday Debrief
DESCRIPTION:Join other teachers of Music for a 30min video chat on Zoom hosted by the MENZA Digital Kaiārahi\, Martin Emo. \n\n\n \n\n\nThe purpose of this chat is to debrief the weeks of online teaching so far\, and share your successes and disasters!\n\n\n \n\n\nFeel free to bring a drink. \n\n\nThe session will not be recorded\, but you are welcome to take notes. \n\n\n \n\n\nThe zoom meeting does not have a password\, but does have a waiting room. Please join from 3:28pm and wait to be admitted.\n\n\n\n\nGet the Zoom link from the MENZA Facebook page. 
URL:https://menza.co.nz/event/friday-debrief/
ATTACH;FMTTYPE=image/jpeg:https://menza.co.nz/wp-content/uploads/2020/05/MENZA-Resource-template-1-e1660096167158.jpg
END:VEVENT
END:VCALENDAR