BEGIN:VCALENDAR
VERSION:2.0
PRODID:-//MENZA - ECPv6.15.20//NONSGML v1.0//EN
CALSCALE:GREGORIAN
METHOD:PUBLISH
X-WR-CALNAME:MENZA
X-ORIGINAL-URL:https://menza.co.nz
X-WR-CALDESC:Events for MENZA
REFRESH-INTERVAL;VALUE=DURATION:PT1H
X-Robots-Tag:noindex
X-PUBLISHED-TTL:PT1H
BEGIN:VTIMEZONE
TZID:UTC
BEGIN:STANDARD
TZOFFSETFROM:+0000
TZOFFSETTO:+0000
TZNAME:UTC
DTSTART:20190101T000000
END:STANDARD
END:VTIMEZONE
BEGIN:VEVENT
DTSTART;TZID=UTC:20201022T120000
DTEND;TZID=UTC:20201022T180000
DTSTAMP:20260421T190832
CREATED:20200126T211253Z
LAST-MODIFIED:20200126T211336Z
UID:166823-1603368000-1603389600@menza.co.nz
SUMMARY:Junior Jazz Jam
DESCRIPTION:An event for Primary School Jazz Bands (up to year 8). \nBands perform for each other and get written feedback from jazz lecturers from ARA Music Arts. \nThe Registration link will be added here soon and also to the Christchurch Big Band Festival Website.
URL:https://menza.co.nz/event/junior-jazz-jam-2/
LOCATION:Tūranga Central Library\, 60 Cathedral Square\, Christchurch Central\, Christchurch\, Canterbury\, 8011\, New Zealand
CATEGORIES:Canterbury
ATTACH;FMTTYPE=image/png:https://menza.co.nz/wp-content/uploads/2018/07/JJJ-Logo.png
END:VEVENT
BEGIN:VEVENT
DTSTART;TZID=UTC:20201022T120000
DTEND;TZID=UTC:20201026T170000
DTSTAMP:20260421T190832
CREATED:20200126T201537Z
LAST-MODIFIED:20200126T201639Z
UID:166808-1603368000-1603731600@menza.co.nz
SUMMARY:Christchurch Big Band Festival
DESCRIPTION:NZ’s only Big Band Festival kicks off with Junior Jazz Jam\, an event for primary school jazz bands\, and works through the long weekend with bands of all ages playing outdoor gigs in cool venues around the new Christchurch central city. It also offers workshops\, dancing\, concerts and surprise events! \nRegister your big band here www.chchbigbandfest.com
URL:https://menza.co.nz/event/christchurch-big-band-festival-2/
CATEGORIES:Canterbury,National
ATTACH;FMTTYPE=image/jpeg:https://menza.co.nz/wp-content/uploads/2019/09/CBBF-Logo-Standard.jpg
ORGANIZER;CN="Big Band Festival":MAILTO:katie@bigbandfest.org.nz
END:VEVENT
END:VCALENDAR