BEGIN:VCALENDAR
VERSION:2.0
PRODID:-//MENZA - ECPv6.15.20//NONSGML v1.0//EN
CALSCALE:GREGORIAN
METHOD:PUBLISH
X-WR-CALNAME:MENZA
X-ORIGINAL-URL:https://menza.co.nz
X-WR-CALDESC:Events for MENZA
REFRESH-INTERVAL;VALUE=DURATION:PT1H
X-Robots-Tag:noindex
X-PUBLISHED-TTL:PT1H
BEGIN:VTIMEZONE
TZID:UTC
BEGIN:STANDARD
TZOFFSETFROM:+0000
TZOFFSETTO:+0000
TZNAME:UTC
DTSTART:20190101T000000
END:STANDARD
END:VTIMEZONE
BEGIN:VEVENT
DTSTART;TZID=UTC:20201116T090000
DTEND;TZID=UTC:20201116T150000
DTSTAMP:20260421T201337
CREATED:20200906T221951Z
LAST-MODIFIED:20200907T203611Z
UID:167796-1605517200-1605538800@menza.co.nz
SUMMARY:Creating Taonga Puoro in the Classroom
DESCRIPTION:Taonga Puoro allows our students to think about their Hauora and Mauri and gives the opportunity to make musical instruments in our classrooms. In this Professional Development opportunity\, we will focus on how we can make music more inclusive and allow our classrooms to resonate towards Te Tiriti o Waitangi. \nWe will focus on making Taonga Puoro and how our student can create soundscape pieces in the morning and in the afternoon\, we will have a look at the Taonga Puoro Unit Standards and look at them as alternatives to the Achievement Standards in Music. There will also be an opportunity to discuss Music at Secondary Level in the afternoon. \n\nCost: FREE for MENZA Members – $30 for Non MENZA Members\nNewlands College\, 68 Bracken Road\, Paparangi\, Wellington\nThis event will be followed by a MENZA Wellington get together at 3:30pm – all welcome\n\nREGISTER HERE\nBen Lau is the Head of Music at Newlands College. He believes in an inclusive classroom where students are at the centre of their learning. Recently he has been developing his skills in creating Taonga Puoro and teaching them to his ākonga with success at Year 9\, Year 10 and Year 11.
URL:https://menza.co.nz/event/creating-taonga-puoro-in-the-classroom/
LOCATION:Newlands College\, 68 Bracken Road\, Wellington\, Wellington\, 6037\, New Zealand
CATEGORIES:Wellington
ATTACH;FMTTYPE=image/png:https://menza.co.nz/wp-content/uploads/2020/08/Screen-Shot-2020-03-03-at-9.35.10-AM-e1599554147744.png
END:VEVENT
END:VCALENDAR