BEGIN:VCALENDAR
VERSION:2.0
PRODID:-//MENZA - ECPv6.15.20//NONSGML v1.0//EN
CALSCALE:GREGORIAN
METHOD:PUBLISH
X-WR-CALNAME:MENZA
X-ORIGINAL-URL:https://menza.co.nz
X-WR-CALDESC:Events for MENZA
REFRESH-INTERVAL;VALUE=DURATION:PT1H
X-Robots-Tag:noindex
X-PUBLISHED-TTL:PT1H
BEGIN:VTIMEZONE
TZID:UTC
BEGIN:STANDARD
TZOFFSETFROM:+0000
TZOFFSETTO:+0000
TZNAME:UTC
DTSTART:20200101T000000
END:STANDARD
END:VTIMEZONE
BEGIN:VEVENT
DTSTART;VALUE=DATE:20210119
DTEND;VALUE=DATE:20210124
DTSTAMP:20260421T222829
CREATED:20210111T091957Z
LAST-MODIFIED:20210111T091957Z
UID:167937-1611014400-1611446399@menza.co.nz
SUMMARY:"Believe in Music" free online NAMM event
DESCRIPTION:Believe in Music online event starts on 19 January (NZ time). It has a stream for music education. \nFree but you must register. \nIts organised by NAMM (the musical instrument association) and replaces the irreplaceable NAMM Show .. the enormous international musical instrument trade show. The upside being that the live music and music education activities are now available to all … online. There’s some excellent sessions. \n\n“THE GLOBAL GATHERING TO UNIFY AND SUPPORT THE PEOPLE WHO BRING MUSIC TO THE WORLD” \n\nSchedule here https://attend.believeinmusic.tv/schedule \nThe time shows in NZ time Zone and you can filter the topics you are interested in.
URL:https://menza.co.nz/event/believe-in-music-namm-free-online/
CATEGORIES:International
ATTACH;FMTTYPE=image/png:https://menza.co.nz/wp-content/uploads/2021/01/Believe-in-Music.png
END:VEVENT
BEGIN:VEVENT
DTSTART;VALUE=DATE:20210123
DTEND;VALUE=DATE:20210125
DTSTAMP:20260421T222829
CREATED:20201217T084123Z
LAST-MODIFIED:20210107T165859Z
UID:167923-1611360000-1611532799@menza.co.nz
SUMMARY:Wellington Symphonic Bands - Weekend workshop
DESCRIPTION:Prime your playing for 2021 with the help of our awesome musical directors. \nAll ages\, levels Grade 3 and up. \nRegister your interest here. \nOrganiser is Megan Brownlie\, Heretaunga College. \n 
URL:https://menza.co.nz/event/wellington-symphonic-bands-weekend-workshop/
CATEGORIES:National,Wellington
ATTACH;FMTTYPE=image/png:https://menza.co.nz/wp-content/uploads/2020/12/Screen-Shot-2020-12-18-at-10.37.40-AM.png
END:VEVENT
END:VCALENDAR