BEGIN:VCALENDAR
VERSION:2.0
PRODID:-//MENZA - ECPv6.15.20//NONSGML v1.0//EN
CALSCALE:GREGORIAN
METHOD:PUBLISH
X-ORIGINAL-URL:https://menza.co.nz
X-WR-CALDESC:Events for MENZA
REFRESH-INTERVAL;VALUE=DURATION:PT1H
X-Robots-Tag:noindex
X-PUBLISHED-TTL:PT1H
BEGIN:VTIMEZONE
TZID:UTC
BEGIN:STANDARD
TZOFFSETFROM:+0000
TZOFFSETTO:+0000
TZNAME:UTC
DTSTART:20200101T000000
END:STANDARD
END:VTIMEZONE
BEGIN:VEVENT
DTSTART;TZID=UTC:20210125T090000
DTEND;TZID=UTC:20210125T150000
DTSTAMP:20260421T223015
CREATED:20201211T185642Z
LAST-MODIFIED:20210118T121735Z
UID:167907-1611565200-1611586800@menza.co.nz
SUMMARY:Creating Taonga Puoro in the Classroom
DESCRIPTION:Taonga Puoro allows our students to think about their Hauora and Mauri and gives the opportunity to make musical instruments in our classrooms. In this Professional Development opportunity\, we will focus on how we can make music more inclusive and allow our classrooms to resonate towards Te Tiriti o Waitangi. \nWe will focus on making Taonga Puoro and how our student can create soundscape pieces in the morning\, and in the afternoon we will have a look at the Taonga Puoro Unit Standards and look at them as alternatives to the Achievement Standards in Music. There will also be an opportunity to discuss Music at Secondary Level in the afternoon. \n\nCost: FREE for MENZA Members – $30 for Non MENZA Members\nMusic Department\, Marist College\, 31 Alberton Ave\, Mt Albert Auckland 1025\n\nThis event will be followed by a MENZA Auckland get together at 3:30pm – all welcome\n\nREGISTER HERE\n \nBen Lau is the Head of Music at Newlands College. He believes in an inclusive classroom where students are at the centre of their learning. Recently he has been developing his skills in creating Taonga Puoro and teaching them to his ākonga with success at Year 9\, Year 10 and Year 11.
URL:https://menza.co.nz/event/creating-taonga-puoro-in-the-classroom-2/
LOCATION:Marist College\, 31 Alberton Ave\, Auckland\, Mt Albert\, 1025\, New Zealand
CATEGORIES:Auckland and Northland
ATTACH;FMTTYPE=image/jpeg:https://menza.co.nz/wp-content/uploads/2020/12/MENZA-event-Taonga-Pouro.jpg
END:VEVENT
END:VCALENDAR