BEGIN:VCALENDAR
VERSION:2.0
PRODID:-//MENZA - ECPv6.15.20//NONSGML v1.0//EN
CALSCALE:GREGORIAN
METHOD:PUBLISH
X-ORIGINAL-URL:https://menza.co.nz
X-WR-CALDESC:Events for MENZA
REFRESH-INTERVAL;VALUE=DURATION:PT1H
X-Robots-Tag:noindex
X-PUBLISHED-TTL:PT1H
BEGIN:VTIMEZONE
TZID:UTC
BEGIN:STANDARD
TZOFFSETFROM:+0000
TZOFFSETTO:+0000
TZNAME:UTC
DTSTART:20200101T000000
END:STANDARD
END:VTIMEZONE
BEGIN:VEVENT
DTSTART;VALUE=DATE:20210527
DTEND;VALUE=DATE:20210529
DTSTAMP:20260422T051144
CREATED:20210424T181752Z
LAST-MODIFIED:20210424T181752Z
UID:168418-1622073600-1622246399@menza.co.nz
SUMMARY:Beyond Buzzy Bees and Number 8 Wire (NZ AIMS conference)
DESCRIPTION:The 2 day conference looks at specialist teaching areas in middle schools. \nThree keynote addresses \n\nTeacher practitioner\, team leader \nWorld-leading innovator\, Rocket Lab presenter\nEducators of innovators\n\nSchool Visits \nThursday afternoon and Friday morning. \n\nChisnallwood Intermediate (including an in depth look at the music programme there)\nCasebrook Intermediate\nCobham Intermediate\nWorkshops with practitioners\n\nTertiary Visits and Input \nUniversity of Canterbury \nSchool of Design School of Product Design – Te Kura Hanga Otinga. \nComputer Science and Software Engineering \nARA \nMinistry of Awesome\, \nTūranga Christchurch City Library \nCreativity Floor – tuition and hands-on opportunities with expert personnel \nThis programme is weighted toward opportunities for school visits and hands-on experiences and opportunities. \nProgramme and registration link \nConference website
URL:https://menza.co.nz/event/beyond-buzzy-bees-and-number-8-wire-nz-aims-conference/
LOCATION:Tūranga Central Library\, 60 Cathedral Square\, Christchurch Central\, Christchurch\, Canterbury\, 8011\, New Zealand
CATEGORIES:Canterbury
ATTACH;FMTTYPE=image/png:https://menza.co.nz/wp-content/uploads/2021/04/Buzzy-Bees-and-no-8-wire.png
ORGANIZER;CN="NZ AIMS":MAILTO:execnzaims@gmail.com
END:VEVENT
END:VCALENDAR